BEGIN:VCALENDAR
VERSION:2.0
PRODID:-//Paroisses Cathédrale Toulouse - ECPv6.15.20//NONSGML v1.0//EN
CALSCALE:GREGORIAN
METHOD:PUBLISH
X-WR-CALNAME:Paroisses Cathédrale Toulouse
X-ORIGINAL-URL:https://paroissescathedraletoulouse.fr
X-WR-CALDESC:Évènements pour Paroisses Cathédrale Toulouse
REFRESH-INTERVAL;VALUE=DURATION:PT1H
X-Robots-Tag:noindex
X-PUBLISHED-TTL:PT1H
BEGIN:VTIMEZONE
TZID:Europe/Paris
BEGIN:DAYLIGHT
TZOFFSETFROM:+0100
TZOFFSETTO:+0200
TZNAME:CEST
DTSTART:20250330T010000
END:DAYLIGHT
BEGIN:STANDARD
TZOFFSETFROM:+0200
TZOFFSETTO:+0100
TZNAME:CET
DTSTART:20251026T010000
END:STANDARD
BEGIN:DAYLIGHT
TZOFFSETFROM:+0100
TZOFFSETTO:+0200
TZNAME:CEST
DTSTART:20260329T010000
END:DAYLIGHT
BEGIN:STANDARD
TZOFFSETFROM:+0200
TZOFFSETTO:+0100
TZNAME:CET
DTSTART:20261025T010000
END:STANDARD
BEGIN:DAYLIGHT
TZOFFSETFROM:+0100
TZOFFSETTO:+0200
TZNAME:CEST
DTSTART:20270328T010000
END:DAYLIGHT
BEGIN:STANDARD
TZOFFSETFROM:+0200
TZOFFSETTO:+0100
TZNAME:CET
DTSTART:20271031T010000
END:STANDARD
END:VTIMEZONE
BEGIN:VEVENT
DTSTART;TZID=Europe/Paris:20260307T180000
DTEND;TZID=Europe/Paris:20260307T180000
DTSTAMP:20260423T223355
CREATED:20260301T185947Z
LAST-MODIFIED:20260301T191828Z
UID:31738-1772906400-1772906400@paroissescathedraletoulouse.fr
SUMMARY:Messe à ND de La Daurade - 1er scrutin catéchumènes
DESCRIPTION:
URL:https://paroissescathedraletoulouse.fr/event/messe-a-nd-la-daurade-1er-scrutin-catechumenes/
LOCATION:Basilique Notre-Dame La Daurade\, place de la Daurade\, Toulouse\, 31000\, France
ATTACH;FMTTYPE=image/jpeg:https://paroissescathedraletoulouse.fr/wp-content/uploads/2022/01/Daurade-7-12-64.jpg
END:VEVENT
BEGIN:VEVENT
DTSTART;TZID=Europe/Paris:20260312T203000
DTEND;TZID=Europe/Paris:20260312T220000
DTSTAMP:20260423T223355
CREATED:20250903T192724Z
LAST-MODIFIED:20250903T201226Z
UID:30952-1773347400-1773352800@paroissescathedraletoulouse.fr
SUMMARY:Parcours Dieu en questions – Rencontre 7 : Le Fils l’Incarnation et l’enfance de Jésus
DESCRIPTION:
URL:https://paroissescathedraletoulouse.fr/event/parcours-dieu-en-questions-rencontre-7-le-fils-lincarnation-et-lenfance-de-jesus/
CATEGORIES:Evénement
ATTACH;FMTTYPE=image/jpeg:https://paroissescathedraletoulouse.fr/wp-content/uploads/2023/08/2023-DIEU-EN-QUESTIONS-RS.jpg
END:VEVENT
BEGIN:VEVENT
DTSTART;TZID=Europe/Paris:20260313T170000
DTEND;TZID=Europe/Paris:20260313T180000
DTSTAMP:20260423T223355
CREATED:20260301T185947Z
LAST-MODIFIED:20260301T191654Z
UID:31740-1773421200-1773424800@paroissescathedraletoulouse.fr
SUMMARY:Chemin de Croix
DESCRIPTION:
URL:https://paroissescathedraletoulouse.fr/event/chemin-de-croix-enfants-du-catechisme-2/
LOCATION:cathedrale saint Etienne
ATTACH;FMTTYPE=image/png:https://paroissescathedraletoulouse.fr/wp-content/uploads/2026/03/IG-chemin-de-croix-13_03.png
END:VEVENT
BEGIN:VEVENT
DTSTART;TZID=Europe/Paris:20260314T144500
DTEND;TZID=Europe/Paris:20260314T170000
DTSTAMP:20260423T223355
CREATED:20260308T125140Z
LAST-MODIFIED:20260309T093558Z
UID:31777-1773499500-1773507600@paroissescathedraletoulouse.fr
SUMMARY:Chemin de croix des enfants du catéchisme
DESCRIPTION:Pour tous les enfants du catéchisme mais aussi les familles et autres enfants de notre ensemble paroissial  \nVenez vivre le Chemin de croix à la cathédrale ce Samedi. \nAu programme : \nConte explicatif \nChemin de croix \nGoûter
URL:https://paroissescathedraletoulouse.fr/event/chemin-de-croix-des-enfants-du-catechisme/
LOCATION:cathedrale saint Etienne
CATEGORIES:Evénement,Jeunes
ATTACH;FMTTYPE=image/jpeg:https://paroissescathedraletoulouse.fr/wp-content/uploads/2018/04/CROIX-RESSURECTION-2.jpg
END:VEVENT
BEGIN:VEVENT
DTSTART;TZID=Europe/Paris:20260315T103000
DTEND;TZID=Europe/Paris:20260315T103000
DTSTAMP:20260423T223355
CREATED:20260301T185947Z
LAST-MODIFIED:20260301T191458Z
UID:31741-1773570600-1773570600@paroissescathedraletoulouse.fr
SUMMARY:Messe à la Cathédrale - 2e scrutin catéchumènes
DESCRIPTION:
URL:https://paroissescathedraletoulouse.fr/event/messe-a-la-cathedrale-2e-scrutin-catechumenes/
LOCATION:cathedrale saint Etienne
ATTACH;FMTTYPE=image/jpeg:https://paroissescathedraletoulouse.fr/wp-content/uploads/2016/09/14055535_10153943894319576_1203035071_n-2.jpg
END:VEVENT
BEGIN:VEVENT
DTSTART;TZID=Europe/Paris:20260315T150000
DTEND;TZID=Europe/Paris:20260315T160000
DTSTAMP:20260423T223355
CREATED:20260301T185947Z
LAST-MODIFIED:20260301T191122Z
UID:31742-1773586800-1773590400@paroissescathedraletoulouse.fr
SUMMARY:Les Dimanches de la Daurade - Offrande musicale et conférence
DESCRIPTION:
URL:https://paroissescathedraletoulouse.fr/event/les-dimanches-de-la-daurade-offrande-musicale-et-conference/
ATTACH;FMTTYPE=image/png:https://paroissescathedraletoulouse.fr/wp-content/uploads/2024/09/2024-IG-Visuel-Dimanches-de-La-Daurade.png
END:VEVENT
BEGIN:VEVENT
DTSTART;TZID=Europe/Paris:20260319T200000
DTEND;TZID=Europe/Paris:20260319T220000
DTSTAMP:20260423T223355
CREATED:20251115T135437Z
LAST-MODIFIED:20260209T142406Z
UID:31270-1773950400-1773957600@paroissescathedraletoulouse.fr
SUMMARY:Veillée à l'Esprit Saint
DESCRIPTION:
URL:https://paroissescathedraletoulouse.fr/event/veillee-a-lesprit-saint-7/
CATEGORIES:Prier
ATTACH;FMTTYPE=image/png:https://paroissescathedraletoulouse.fr/wp-content/uploads/2025/11/IG-Veillee-ES-19_03.png
END:VEVENT
BEGIN:VEVENT
DTSTART;TZID=Europe/Paris:20260320T170000
DTEND;TZID=Europe/Paris:20260320T170000
DTSTAMP:20260423T223355
CREATED:20260301T185948Z
LAST-MODIFIED:20260301T190941Z
UID:31744-1774026000-1774026000@paroissescathedraletoulouse.fr
SUMMARY:Chemin de Croix
DESCRIPTION:
URL:https://paroissescathedraletoulouse.fr/event/chemin-de-croix-9/
LOCATION:cathedrale saint Etienne
ATTACH;FMTTYPE=image/png:https://paroissescathedraletoulouse.fr/wp-content/uploads/2026/03/IG-chemin-de-croix-20_03.png
END:VEVENT
BEGIN:VEVENT
DTSTART;TZID=Europe/Paris:20260322T093000
DTEND;TZID=Europe/Paris:20260322T093000
DTSTAMP:20260423T223355
CREATED:20260301T185948Z
LAST-MODIFIED:20260301T190821Z
UID:31745-1774171800-1774171800@paroissescathedraletoulouse.fr
SUMMARY:Messe à St Aubin - 3e scrutin catéchumènes
DESCRIPTION:
URL:https://paroissescathedraletoulouse.fr/event/messe-a-st-aubin-3e-scrutin-catechumenes/
LOCATION:saint aubin
ATTACH;FMTTYPE=image/jpeg:https://paroissescathedraletoulouse.fr/wp-content/uploads/2016/09/Eglise_Saint-Aubin_Toulouse_Abside.jpg
END:VEVENT
BEGIN:VEVENT
DTSTART;TZID=Europe/Paris:20260325T080000
DTEND;TZID=Europe/Paris:20260325T080000
DTSTAMP:20260423T223355
CREATED:20260301T185948Z
LAST-MODIFIED:20260301T190631Z
UID:31746-1774425600-1774425600@paroissescathedraletoulouse.fr
SUMMARY:Fete de l Annonciation - Messe Cathedrale
DESCRIPTION:
URL:https://paroissescathedraletoulouse.fr/event/fete-de-l-annonciation-messe-cathedrale/
LOCATION:cathedrale saint Etienne
ATTACH;FMTTYPE=image/jpeg:https://paroissescathedraletoulouse.fr/wp-content/uploads/2016/09/14055535_10153943894319576_1203035071_n-2.jpg
END:VEVENT
BEGIN:VEVENT
DTSTART;TZID=Europe/Paris:20260325T180000
DTEND;TZID=Europe/Paris:20260325T180000
DTSTAMP:20260423T223355
CREATED:20260301T185948Z
LAST-MODIFIED:20260301T190514Z
UID:31747-1774461600-1774461600@paroissescathedraletoulouse.fr
SUMMARY:Fete de l Annonciation - Messe ND La Daurade
DESCRIPTION:
URL:https://paroissescathedraletoulouse.fr/event/fete-de-l-annonciation-messe-nd-la-daurade/
LOCATION:Basilique Notre-Dame La Daurade\, place de la Daurade\, Toulouse\, 31000\, France
ATTACH;FMTTYPE=image/jpeg:https://paroissescathedraletoulouse.fr/wp-content/uploads/2022/01/Daurade-7-12-64.jpg
END:VEVENT
BEGIN:VEVENT
DTSTART;TZID=Europe/Paris:20260327T170000
DTEND;TZID=Europe/Paris:20260327T170000
DTSTAMP:20260423T223355
CREATED:20260301T190004Z
LAST-MODIFIED:20260301T190422Z
UID:31748-1774630800-1774630800@paroissescathedraletoulouse.fr
SUMMARY:Chemin de Croix
DESCRIPTION:
URL:https://paroissescathedraletoulouse.fr/event/chemin-de-croix-10/
LOCATION:cathedrale saint Etienne
ATTACH;FMTTYPE=image/png:https://paroissescathedraletoulouse.fr/wp-content/uploads/2026/03/IG-chemin-de-croix-27_03.png
END:VEVENT
BEGIN:VEVENT
DTSTART;TZID=Europe/Paris:20260329T000000
DTEND;TZID=Europe/Paris:20260329T000000
DTSTAMP:20260423T223355
CREATED:20260301T190005Z
LAST-MODIFIED:20260301T190313Z
UID:31749-1774742400-1774742400@paroissescathedraletoulouse.fr
SUMMARY:Dimanche des Rameaux
DESCRIPTION:
URL:https://paroissescathedraletoulouse.fr/event/dimanche-des-rameaux-2/
ATTACH;FMTTYPE=image/png:https://paroissescathedraletoulouse.fr/wp-content/uploads/2026/03/IG-Rameaux-2026.png
END:VEVENT
BEGIN:VEVENT
DTSTART;TZID=Europe/Paris:20260329T000000
DTEND;TZID=Europe/Paris:20260405T000000
DTSTAMP:20260423T223355
CREATED:20260301T190005Z
LAST-MODIFIED:20260301T190148Z
UID:31750-1774742400-1775347200@paroissescathedraletoulouse.fr
SUMMARY:Semaine Sainte
DESCRIPTION:
URL:https://paroissescathedraletoulouse.fr/event/semaine-sainte/
ATTACH;FMTTYPE=image/jpeg:https://paroissescathedraletoulouse.fr/wp-content/uploads/2023/03/passion-rameaux-paques-3.jpg
END:VEVENT
BEGIN:VEVENT
DTSTART;TZID=Europe/Paris:20260330T183000
DTEND;TZID=Europe/Paris:20260330T193000
DTSTAMP:20260423T223355
CREATED:20260328T153533Z
LAST-MODIFIED:20260328T153533Z
UID:31819-1774895400-1774899000@paroissescathedraletoulouse.fr
SUMMARY:Messe Christmale
DESCRIPTION:
URL:https://paroissescathedraletoulouse.fr/event/messe-christmale/
ATTACH;FMTTYPE=image/png:https://paroissescathedraletoulouse.fr/wp-content/uploads/2026/03/2026-IG-messe-chrismale.png
END:VEVENT
END:VCALENDAR