BEGIN:VCALENDAR
VERSION:2.0
PRODID:-//Paroisses Cathédrale Toulouse - ECPv6.15.20//NONSGML v1.0//EN
CALSCALE:GREGORIAN
METHOD:PUBLISH
X-ORIGINAL-URL:https://paroissescathedraletoulouse.fr
X-WR-CALDESC:Évènements pour Paroisses Cathédrale Toulouse
REFRESH-INTERVAL;VALUE=DURATION:PT1H
X-Robots-Tag:noindex
X-PUBLISHED-TTL:PT1H
BEGIN:VTIMEZONE
TZID:Europe/Paris
BEGIN:DAYLIGHT
TZOFFSETFROM:+0100
TZOFFSETTO:+0200
TZNAME:CEST
DTSTART:20250330T010000
END:DAYLIGHT
BEGIN:STANDARD
TZOFFSETFROM:+0200
TZOFFSETTO:+0100
TZNAME:CET
DTSTART:20251026T010000
END:STANDARD
BEGIN:DAYLIGHT
TZOFFSETFROM:+0100
TZOFFSETTO:+0200
TZNAME:CEST
DTSTART:20260329T010000
END:DAYLIGHT
BEGIN:STANDARD
TZOFFSETFROM:+0200
TZOFFSETTO:+0100
TZNAME:CET
DTSTART:20261025T010000
END:STANDARD
BEGIN:DAYLIGHT
TZOFFSETFROM:+0100
TZOFFSETTO:+0200
TZNAME:CEST
DTSTART:20270328T010000
END:DAYLIGHT
BEGIN:STANDARD
TZOFFSETFROM:+0200
TZOFFSETTO:+0100
TZNAME:CET
DTSTART:20271031T010000
END:STANDARD
END:VTIMEZONE
BEGIN:VEVENT
DTSTART;TZID=Europe/Paris:20260108T203000
DTEND;TZID=Europe/Paris:20260108T220000
DTSTAMP:20260424T011219
CREATED:20250903T192724Z
LAST-MODIFIED:20251113T184434Z
UID:30954-1767904200-1767909600@paroissescathedraletoulouse.fr
SUMMARY:Parcours Dieu en questions – Rencontre 5 : Le Père la toute-puissance et la Création
DESCRIPTION:
URL:https://paroissescathedraletoulouse.fr/event/parcours-dieu-en-questions-rencontre-5-le-pere-la-toute-puissance-et-la-creation/
CATEGORIES:Evénement
ATTACH;FMTTYPE=image/jpeg:https://paroissescathedraletoulouse.fr/wp-content/uploads/2023/08/2023-DIEU-EN-QUESTIONS-RS.jpg
END:VEVENT
BEGIN:VEVENT
DTSTART;TZID=Europe/Paris:20260111T110000
DTEND;TZID=Europe/Paris:20260111T120000
DTSTAMP:20260424T011219
CREATED:20260104T164508Z
LAST-MODIFIED:20260104T165324Z
UID:31503-1768129200-1768132800@paroissescathedraletoulouse.fr
SUMMARY:Messe avec entrée en catéchuménat adultes
DESCRIPTION:
URL:https://paroissescathedraletoulouse.fr/event/messe-avec-entrze-en-catzchumznat-adultes/
LOCATION:nd de la dalbade
ATTACH;FMTTYPE=image/jpeg:https://paroissescathedraletoulouse.fr/wp-content/uploads/2015/08/MESSE-150-150.jpg
END:VEVENT
BEGIN:VEVENT
DTSTART;TZID=Europe/Paris:20260115T200000
DTEND;TZID=Europe/Paris:20260115T220000
DTSTAMP:20260424T011219
CREATED:20251115T135150Z
LAST-MODIFIED:20251115T135150Z
UID:31266-1768507200-1768514400@paroissescathedraletoulouse.fr
SUMMARY:Veillée à l'Esprit Saint
DESCRIPTION:
URL:https://paroissescathedraletoulouse.fr/event/veillee-a-lesprit-saint-5/
LOCATION:Cathédrale Saint-Etienne\, Place Saint Etienne\, Toulouse\, 31000\, France Métropolitaine
ATTACH;FMTTYPE=image/png:https://paroissescathedraletoulouse.fr/wp-content/uploads/2024/07/2024-IG-Veillee-a-lEsprit-Saint.png
END:VEVENT
BEGIN:VEVENT
DTSTART;TZID=Europe/Paris:20260118T150000
DTEND;TZID=Europe/Paris:20260118T160000
DTSTAMP:20260424T011219
CREATED:20260104T164508Z
LAST-MODIFIED:20260104T164744Z
UID:31504-1768748400-1768752000@paroissescathedraletoulouse.fr
SUMMARY:Les Dimanches de la Daurade
DESCRIPTION:Offrande musicale à 15h suivie de la conférence « l’hospice St Jacques\, l’hôpital du bout du pont » par Françoise Brumont-Daubert\, guide conférencière
URL:https://paroissescathedraletoulouse.fr/event/les-dimanches-de-la-daurade-offrande-musicale-suivie-de-la-confzrence-l-hospice-st-jacques-l-hpital-du-bout-du-pont/
LOCATION:Basilique Notre-Dame La Daurade\, place de la Daurade\, Toulouse\, 31000\, France
ATTACH;FMTTYPE=image/jpeg:https://paroissescathedraletoulouse.fr/wp-content/uploads/2017/01/toulouse_daurade.jpg
END:VEVENT
END:VCALENDAR