BEGIN:VCALENDAR
VERSION:2.0
PRODID:-//Paroisses Cathédrale Toulouse - ECPv6.15.20//NONSGML v1.0//EN
CALSCALE:GREGORIAN
METHOD:PUBLISH
X-WR-CALNAME:Paroisses Cathédrale Toulouse
X-ORIGINAL-URL:https://paroissescathedraletoulouse.fr
X-WR-CALDESC:Évènements pour Paroisses Cathédrale Toulouse
REFRESH-INTERVAL;VALUE=DURATION:PT1H
X-Robots-Tag:noindex
X-PUBLISHED-TTL:PT1H
BEGIN:VTIMEZONE
TZID:Europe/Paris
BEGIN:DAYLIGHT
TZOFFSETFROM:+0100
TZOFFSETTO:+0200
TZNAME:CEST
DTSTART:20240331T010000
END:DAYLIGHT
BEGIN:STANDARD
TZOFFSETFROM:+0200
TZOFFSETTO:+0100
TZNAME:CET
DTSTART:20241027T010000
END:STANDARD
BEGIN:DAYLIGHT
TZOFFSETFROM:+0100
TZOFFSETTO:+0200
TZNAME:CEST
DTSTART:20250330T010000
END:DAYLIGHT
BEGIN:STANDARD
TZOFFSETFROM:+0200
TZOFFSETTO:+0100
TZNAME:CET
DTSTART:20251026T010000
END:STANDARD
BEGIN:DAYLIGHT
TZOFFSETFROM:+0100
TZOFFSETTO:+0200
TZNAME:CEST
DTSTART:20260329T010000
END:DAYLIGHT
BEGIN:STANDARD
TZOFFSETFROM:+0200
TZOFFSETTO:+0100
TZNAME:CET
DTSTART:20261025T010000
END:STANDARD
END:VTIMEZONE
BEGIN:VEVENT
DTSTART;TZID=Europe/Paris:20251009T203000
DTEND;TZID=Europe/Paris:20251009T220000
DTSTAMP:20260424T065153
CREATED:20250903T192642Z
LAST-MODIFIED:20250903T192642Z
UID:30958-1760041800-1760047200@paroissescathedraletoulouse.fr
SUMMARY:Parcours Dieu en questions – Rencontre 2 : L’Homme répond à l’appel de Dieu qui est premier
DESCRIPTION:
URL:https://paroissescathedraletoulouse.fr/event/parcours-dieu-en-questions-rencontre-2-lhomme-repond-a-lappel-de-dieu-qui-est-premier/
CATEGORIES:Evénement
END:VEVENT
BEGIN:VEVENT
DTSTART;TZID=Europe/Paris:20251012T110000
DTEND;TZID=Europe/Paris:20251012T120000
DTSTAMP:20260424T065153
CREATED:20251013T122020Z
LAST-MODIFIED:20251013T122128Z
UID:31135-1760266800-1760270400@paroissescathedraletoulouse.fr
SUMMARY:Messe grégorienne
DESCRIPTION:
URL:https://paroissescathedraletoulouse.fr/event/messe-gregorienne/
LOCATION:nd de la dalbade
END:VEVENT
BEGIN:VEVENT
DTSTART;TZID=Europe/Paris:20251016T200000
DTEND;TZID=Europe/Paris:20251016T210000
DTSTAMP:20260424T065153
CREATED:20251013T122020Z
LAST-MODIFIED:20251013T124115Z
UID:31136-1760644800-1760648400@paroissescathedraletoulouse.fr
SUMMARY:Veillée à l’Esprit Saint
DESCRIPTION:
URL:https://paroissescathedraletoulouse.fr/event/veillee-a-lesprit-saint-2/
ATTACH;FMTTYPE=image/png:https://paroissescathedraletoulouse.fr/wp-content/uploads/2024/07/2024-IG-Veillee-a-lEsprit-Saint.png
END:VEVENT
BEGIN:VEVENT
DTSTART;TZID=Europe/Paris:20251017T170000
DTEND;TZID=Europe/Paris:20251020T180000
DTSTAMP:20260424T065153
CREATED:20250903T192724Z
LAST-MODIFIED:20250915T105513Z
UID:30957-1760720400-1760983200@paroissescathedraletoulouse.fr
SUMMARY:Pèlerinage des épouses
DESCRIPTION:Lien d’inscription : https://www.helloasso.com/associations/paroisses-cathedrale-diocese-de-toulouse/evenements/pelerinage-des-epouses-2025 \n 
URL:https://paroissescathedraletoulouse.fr/event/pelerinage-des-epouses/
CATEGORIES:Evénement
ATTACH;FMTTYPE=image/jpeg:https://paroissescathedraletoulouse.fr/wp-content/uploads/2025/09/image0.jpeg
END:VEVENT
BEGIN:VEVENT
DTSTART;TZID=Europe/Paris:20251019T150000
DTEND;TZID=Europe/Paris:20251019T160000
DTSTAMP:20260424T065153
CREATED:20251013T122020Z
LAST-MODIFIED:20251013T123201Z
UID:31137-1760886000-1760889600@paroissescathedraletoulouse.fr
SUMMARY:Dimanche de La Daurade (offrande musicale + conférence)
DESCRIPTION:
URL:https://paroissescathedraletoulouse.fr/event/dimanche-de-la-daurade-offrande-musicale-conference/
LOCATION:Basilique Notre-Dame La Daurade\, place de la Daurade\, Toulouse\, 31000\, France
ATTACH;FMTTYPE=image/jpeg:https://paroissescathedraletoulouse.fr/wp-content/uploads/2021/11/DAURADE-2.jpg
END:VEVENT
BEGIN:VEVENT
DTSTART;TZID=Europe/Paris:20251021T200000
DTEND;TZID=Europe/Paris:20251021T210000
DTSTAMP:20260424T065153
CREATED:20251013T122020Z
LAST-MODIFIED:20251013T123233Z
UID:31138-1761076800-1761080400@paroissescathedraletoulouse.fr
SUMMARY:Présentation du Parcours Tandem – Soirée de présentation
DESCRIPTION:
URL:https://paroissescathedraletoulouse.fr/event/presentation-du-parcours-tandem-soiree-de-presentation/
LOCATION:Salle Tarcisius\, cour Sainte-Anne\, 15 Rue Sainte-Anne\, Toulouse\, 3100\, France
ATTACH;FMTTYPE=image/png:https://paroissescathedraletoulouse.fr/wp-content/uploads/2025/10/logo-Tandem-couple-150.png
END:VEVENT
BEGIN:VEVENT
DTSTART;TZID=Europe/Paris:20251026T080000
DTEND;TZID=Europe/Paris:20251031T160000
DTSTAMP:20260424T065153
CREATED:20250903T192724Z
LAST-MODIFIED:20250903T192724Z
UID:30964-1761465600-1761926400@paroissescathedraletoulouse.fr
SUMMARY:Camp « Choisis la Vie » (Aumônerie – 4e-Terminale)
DESCRIPTION:
URL:https://paroissescathedraletoulouse.fr/event/camp-choisis-la-vie-aumonerie-4e-terminale/
CATEGORIES:Evénement
END:VEVENT
END:VCALENDAR