BEGIN:VCALENDAR
VERSION:2.0
PRODID:-//Paroisses Cathédrale Toulouse - ECPv6.15.20//NONSGML v1.0//EN
CALSCALE:GREGORIAN
METHOD:PUBLISH
X-WR-CALNAME:Paroisses Cathédrale Toulouse
X-ORIGINAL-URL:https://paroissescathedraletoulouse.fr
X-WR-CALDESC:Évènements pour Paroisses Cathédrale Toulouse
REFRESH-INTERVAL;VALUE=DURATION:PT1H
X-Robots-Tag:noindex
X-PUBLISHED-TTL:PT1H
BEGIN:VTIMEZONE
TZID:Europe/Paris
BEGIN:DAYLIGHT
TZOFFSETFROM:+0100
TZOFFSETTO:+0200
TZNAME:CEST
DTSTART:20230326T010000
END:DAYLIGHT
BEGIN:STANDARD
TZOFFSETFROM:+0200
TZOFFSETTO:+0100
TZNAME:CET
DTSTART:20231029T010000
END:STANDARD
BEGIN:DAYLIGHT
TZOFFSETFROM:+0100
TZOFFSETTO:+0200
TZNAME:CEST
DTSTART:20240331T010000
END:DAYLIGHT
BEGIN:STANDARD
TZOFFSETFROM:+0200
TZOFFSETTO:+0100
TZNAME:CET
DTSTART:20241027T010000
END:STANDARD
BEGIN:DAYLIGHT
TZOFFSETFROM:+0100
TZOFFSETTO:+0200
TZNAME:CEST
DTSTART:20250330T010000
END:DAYLIGHT
BEGIN:STANDARD
TZOFFSETFROM:+0200
TZOFFSETTO:+0100
TZNAME:CET
DTSTART:20251026T010000
END:STANDARD
END:VTIMEZONE
BEGIN:VEVENT
DTSTART;VALUE=DATE:20241101
DTEND;VALUE=DATE:20241102
DTSTAMP:20260424T234725
CREATED:20241025T192734Z
LAST-MODIFIED:20241025T193137Z
UID:30001-1730419200-1730505599@paroissescathedraletoulouse.fr
SUMMARY:Fête de la Toussaint
DESCRIPTION:messes \n9h30 à saint Aubin \n10h30 à la cathédrale \n11h à ND de la Dalbade \n19h ND la Daurade
URL:https://paroissescathedraletoulouse.fr/event/fete-de-la-toussaint/
CATEGORIES:Evénement
ATTACH;FMTTYPE=image/jpeg:https://paroissescathedraletoulouse.fr/wp-content/uploads/2024/10/96e6d86a-d760-4d7f-a6b7-20628571bd44.jpg
END:VEVENT
BEGIN:VEVENT
DTSTART;VALUE=DATE:20241102
DTEND;VALUE=DATE:20241103
DTSTAMP:20260424T234725
CREATED:20241025T193003Z
LAST-MODIFIED:20241025T193003Z
UID:30006-1730505600-1730591999@paroissescathedraletoulouse.fr
SUMMARY:Messes pour les fidèles défunts
DESCRIPTION:9h30 à saint Aubin \n10h30 à la cathédrale \n11h à ND de la Dalbade \n18h à ND la Daurade
URL:https://paroissescathedraletoulouse.fr/event/messes-pour-les-fideles-defunts/
ATTACH;FMTTYPE=image/jpeg:https://paroissescathedraletoulouse.fr/wp-content/uploads/2024/10/b1803137-263b-4fc1-97df-c9c1f200f951-2.jpg
END:VEVENT
BEGIN:VEVENT
DTSTART;TZID=Europe/Paris:20241107T203000
DTEND;TZID=Europe/Paris:20241107T220000
DTSTAMP:20260424T234725
CREATED:20240710T143238Z
LAST-MODIFIED:20241025T153528Z
UID:20336-1731011400-1731016800@paroissescathedraletoulouse.fr
SUMMARY:Parcours Dieu en questions
DESCRIPTION:Un parcours pour approfondir votre foi\, dix soirées autour de 10 grandes questions que nous nous posons. \nChaque fois\, un enseignement d’une heure par un des prêtres de la paroisse\, 20 mn en petit groupe pour partager\, 20mn de questions-réponses\, puis nous terminons en chantant les complies. \nThème de cette soirée : L’échec du christianisme ? \nRetrouvez ici toutes les infos ainsi que le programme complet du parcours.
URL:https://paroissescathedraletoulouse.fr/event/parcours-dieu-en-questions-5/
LOCATION:Salle Saint Tarcissius\, 15 rue Ste Anne\, Toulouse\, 31000
CATEGORIES:Evénement
ATTACH;FMTTYPE=image/jpeg:https://paroissescathedraletoulouse.fr/wp-content/uploads/2023/08/2023-DIEU-EN-QUESTIONS-RS.jpg
END:VEVENT
BEGIN:VEVENT
DTSTART;TZID=Europe/Paris:20241114T200000
DTEND;TZID=Europe/Paris:20241114T213000
DTSTAMP:20260424T234725
CREATED:20240710T143959Z
LAST-MODIFIED:20241108T095001Z
UID:20344-1731614400-1731619800@paroissescathedraletoulouse.fr
SUMMARY:Veillée à l'Esprit Saint
DESCRIPTION:Venez invoquer l’Esprit Saint ! \nVenez nous rejoindre à la Veillée à l’Esprit Saint le 14 novembre à la Cathédrale !\nVenez invoquer l’Esprit Saint et goûter la paix que donne le partage de la parole de Dieu !\nVenez et faites cette découverte bouleversante de la joie de la rencontre pour Le prier !\nCe que proposent les fraternités missionnaires de notre paroisse ?\nSe retrouver autour de la Parole de Dieu\, la partager et prier ensemble : chacun avec sa lecture\, son ressenti … chacun est touché d’une façon différente et particulière et peut donner son éclairage\, en vérité et sans jugement.\nChacun apporte ainsi de nouvelles perspectives et permet la découverte du chemin ouvert par cette parole vers de nouveaux horizons insoupçonnés… et souvent vertigineux.\nSe réunir en Fraternité c’est nourrir la prière de chacun et de l’ensemble\, c’est rendre grâce : une rencontre d’âme à âme\, de cœur à cœur\, l’unité de nos singularités dans l’Amour. \nCorinne d’Agrain \nRetrouvez ici toutes les infos ainsi que notre carnet de chants.
URL:https://paroissescathedraletoulouse.fr/event/veillee-esprit-saint-4/
LOCATION:Cathédrale Saint-Etienne\, Place Saint Etienne\, Toulouse\, 31000\, France Métropolitaine
CATEGORIES:Evénement
ATTACH;FMTTYPE=image/png:https://paroissescathedraletoulouse.fr/wp-content/uploads/2024/07/2024-IG-Veillee-a-lEsprit-Saint.png
END:VEVENT
BEGIN:VEVENT
DTSTART;TZID=Europe/Paris:20241116T150000
DTEND;TZID=Europe/Paris:20241116T190000
DTSTAMP:20260424T234725
CREATED:20241106T133225Z
LAST-MODIFIED:20241106T133225Z
UID:30027-1731769200-1731783600@paroissescathedraletoulouse.fr
SUMMARY:Festival de la beauté à ND de La Daurade
DESCRIPTION:15h : concert \n18h : messe \n19h : concert \n+ d’infos ici
URL:https://paroissescathedraletoulouse.fr/event/festival-de-la-beaute-a-nd-de-la-daurade/
LOCATION:Basilique Notre-Dame La Daurade\, place de la Daurade\, Toulouse\, 31000\, France
CATEGORIES:Evénement
ATTACH;FMTTYPE=image/png:https://paroissescathedraletoulouse.fr/wp-content/uploads/2024/11/festival-beaute-2024-300x425-1.png
END:VEVENT
BEGIN:VEVENT
DTSTART;TZID=Europe/Paris:20241117T150000
DTEND;TZID=Europe/Paris:20241117T163000
DTSTAMP:20260424T234725
CREATED:20241011T165748Z
LAST-MODIFIED:20241011T165748Z
UID:29952-1731855600-1731861000@paroissescathedraletoulouse.fr
SUMMARY:Dimanche de La Daurade
DESCRIPTION:Les exceptionnels ensembles sculptés du monastère de la Daurade au XIIe siècle\, par Quitterie Cazes – Professeur d’Histoire de l’art médiéval à l’Université Toulouse Jean-Jaurès\nConférence précédée d’un concert par Ignacio Arakistain\, Œuvres de Mozart\, Franck\, Duruflé et Guridi
URL:https://paroissescathedraletoulouse.fr/event/dimanche-de-la-daurade/
LOCATION:Basilique Notre-Dame La Daurade\, place de la Daurade\, Toulouse\, 31000\, France
CATEGORIES:Evénement
ATTACH;FMTTYPE=image/png:https://paroissescathedraletoulouse.fr/wp-content/uploads/2024/09/2024-IG-Visuel-Dimanches-de-La-Daurade.png
END:VEVENT
BEGIN:VEVENT
DTSTART;TZID=Europe/Paris:20241121T203000
DTEND;TZID=Europe/Paris:20241121T220000
DTSTAMP:20260424T234725
CREATED:20241106T133731Z
LAST-MODIFIED:20241108T101149Z
UID:30030-1732221000-1732226400@paroissescathedraletoulouse.fr
SUMMARY:Réunion d'informations Hiver Solidaire
DESCRIPTION:+ d’infos ici sur Hiver Solidaire : toutes les bonnes volontés pour nous aider sont les bienvenues !
URL:https://paroissescathedraletoulouse.fr/event/reunion-dinformations-hiver-solidaire/
LOCATION:Salle Saint Tarcissius\, 15 rue Ste Anne\, Toulouse\, 31000
CATEGORIES:Evénement
ATTACH;FMTTYPE=image/png:https://paroissescathedraletoulouse.fr/wp-content/uploads/2024/11/2024-IG-Hiver-solidaire.png
END:VEVENT
BEGIN:VEVENT
DTSTART;TZID=Europe/Paris:20241124T103000
DTEND;TZID=Europe/Paris:20241124T113000
DTSTAMP:20260424T234725
CREATED:20241106T134029Z
LAST-MODIFIED:20241108T102316Z
UID:30033-1732444200-1732447800@paroissescathedraletoulouse.fr
SUMMARY:Messe anniversaire 20 ans Père Barthez\, titulaire de l'orgue de la Cathédrale
DESCRIPTION:Messe anniversaire à 10h30 \nConcert à 16h \n+ d’infos ici !
URL:https://paroissescathedraletoulouse.fr/event/messe-anniversaire-20-ans-pierre-barthez-titulaire-de-lorgue-de-la-cathedrale/
LOCATION:Cathédrale Saint-Etienne\, Place Saint Etienne\, Toulouse\, 31000\, France Métropolitaine
CATEGORIES:Evénement
ATTACH;FMTTYPE=image/png:https://paroissescathedraletoulouse.fr/wp-content/uploads/2024/11/2024-IG-20-ans-pere-Barthez.png
END:VEVENT
BEGIN:VEVENT
DTSTART;TZID=Europe/Paris:20241124T110000
DTEND;TZID=Europe/Paris:20241124T123000
DTSTAMP:20260424T234725
CREATED:20241106T134544Z
LAST-MODIFIED:20241106T134544Z
UID:30039-1732446000-1732451400@paroissescathedraletoulouse.fr
SUMMARY:Messe pour les jeunes pros et repas partagé
DESCRIPTION:
URL:https://paroissescathedraletoulouse.fr/event/messe-pour-les-jeunes-pros-et-repas-partage/
LOCATION:Notre-Dame de la Dalbade\, 30\, rue de la Dalbade\, Toulouse\, 31000\, France
CATEGORIES:Evénement
ATTACH;FMTTYPE=image/jpeg:https://paroissescathedraletoulouse.fr/wp-content/uploads/2024/10/eucharistie-scaled.jpg
END:VEVENT
BEGIN:VEVENT
DTSTART;TZID=Europe/Paris:20241126T203000
DTEND;TZID=Europe/Paris:20241126T213000
DTSTAMP:20260424T234725
CREATED:20241106T134329Z
LAST-MODIFIED:20241126T171453Z
UID:30037-1732653000-1732656600@paroissescathedraletoulouse.fr
SUMMARY:Veillée des mères
DESCRIPTION:
URL:https://paroissescathedraletoulouse.fr/event/veillee-des-meres/
LOCATION:Cathédrale Saint-Etienne\, Place Saint Etienne\, Toulouse\, 31000\, France Métropolitaine
CATEGORIES:Evénement
ATTACH;FMTTYPE=image/jpeg:https://paroissescathedraletoulouse.fr/wp-content/uploads/2024/11/51d63021-b7d6-4361-9f09-92cde94ba8f1.jpg
END:VEVENT
BEGIN:VEVENT
DTSTART;TZID=Europe/Paris:20241130T170000
DTEND;TZID=Europe/Paris:20241201T100000
DTSTAMP:20260424T234725
CREATED:20241106T134852Z
LAST-MODIFIED:20241126T174737Z
UID:30041-1732986000-1733047200@paroissescathedraletoulouse.fr
SUMMARY:Nuit d'adoration pour entrer en Avent
DESCRIPTION:Entrée de l’Avent : \nNuit d’adoration à la Chapelle Sainte Anne du samedi 30/11 17h au dimanche 1er décembre à 10h \nInscriptions ici
URL:https://paroissescathedraletoulouse.fr/event/nuit-dentree-en-avent/
LOCATION:Chapelle Sainte-Anne\, 15 Rue Sainte-Anne\, Toulouse\, 31000\, France
CATEGORIES:Evénement
ATTACH;FMTTYPE=image/jpeg:https://paroissescathedraletoulouse.fr/wp-content/uploads/2024/11/17e0d268-26bf-4e56-8afd-725de87a680c.jpg
END:VEVENT
END:VCALENDAR