BEGIN:VCALENDAR
VERSION:2.0
PRODID:-//Paroisses Cathédrale Toulouse - ECPv6.15.20//NONSGML v1.0//EN
CALSCALE:GREGORIAN
METHOD:PUBLISH
X-WR-CALNAME:Paroisses Cathédrale Toulouse
X-ORIGINAL-URL:https://paroissescathedraletoulouse.fr
X-WR-CALDESC:Évènements pour Paroisses Cathédrale Toulouse
REFRESH-INTERVAL;VALUE=DURATION:PT1H
X-Robots-Tag:noindex
X-PUBLISHED-TTL:PT1H
BEGIN:VTIMEZONE
TZID:Europe/Paris
BEGIN:DAYLIGHT
TZOFFSETFROM:+0100
TZOFFSETTO:+0200
TZNAME:CEST
DTSTART:20230326T010000
END:DAYLIGHT
BEGIN:STANDARD
TZOFFSETFROM:+0200
TZOFFSETTO:+0100
TZNAME:CET
DTSTART:20231029T010000
END:STANDARD
BEGIN:DAYLIGHT
TZOFFSETFROM:+0100
TZOFFSETTO:+0200
TZNAME:CEST
DTSTART:20240331T010000
END:DAYLIGHT
BEGIN:STANDARD
TZOFFSETFROM:+0200
TZOFFSETTO:+0100
TZNAME:CET
DTSTART:20241027T010000
END:STANDARD
BEGIN:DAYLIGHT
TZOFFSETFROM:+0100
TZOFFSETTO:+0200
TZNAME:CEST
DTSTART:20250330T010000
END:DAYLIGHT
BEGIN:STANDARD
TZOFFSETFROM:+0200
TZOFFSETTO:+0100
TZNAME:CET
DTSTART:20251026T010000
END:STANDARD
END:VTIMEZONE
BEGIN:VEVENT
DTSTART;TZID=Europe/Paris:20241205T203000
DTEND;TZID=Europe/Paris:20241205T220000
DTSTAMP:20260425T175519
CREATED:20240710T143352Z
LAST-MODIFIED:20241119T215550Z
UID:20338-1733430600-1733436000@paroissescathedraletoulouse.fr
SUMMARY:Parcours Dieu en questions
DESCRIPTION:Un parcours pour approfondir votre foi\, dix soirées autour de 10 grandes questions que nous nous posons. \nChaque fois\, un enseignement d’une heure par un des prêtres de la paroisse\, 20 mn en petit groupe pour partager\, 20mn de questions-réponses\, puis nous terminons en chantant les complies. \nLe thème de cette soirée : le christianisme a t il échoué? \nRetrouvez ici toutes les infos ainsi que le programme complet du parcours.
URL:https://paroissescathedraletoulouse.fr/event/parcours-dieu-en-questions-6/
LOCATION:Salle Saint Tarcissius\, 15 rue Ste Anne\, Toulouse\, 31000
CATEGORIES:Evénement
ATTACH;FMTTYPE=image/jpeg:https://paroissescathedraletoulouse.fr/wp-content/uploads/2023/08/2023-DIEU-EN-QUESTIONS-RS.jpg
END:VEVENT
END:VCALENDAR