BEGIN:VCALENDAR
VERSION:2.0
PRODID:-//Paroisses Cathédrale Toulouse - ECPv6.15.20//NONSGML v1.0//EN
CALSCALE:GREGORIAN
METHOD:PUBLISH
X-ORIGINAL-URL:https://paroissescathedraletoulouse.fr
X-WR-CALDESC:Évènements pour Paroisses Cathédrale Toulouse
REFRESH-INTERVAL;VALUE=DURATION:PT1H
X-Robots-Tag:noindex
X-PUBLISHED-TTL:PT1H
BEGIN:VTIMEZONE
TZID:Europe/Paris
BEGIN:DAYLIGHT
TZOFFSETFROM:+0100
TZOFFSETTO:+0200
TZNAME:CEST
DTSTART:20240331T010000
END:DAYLIGHT
BEGIN:STANDARD
TZOFFSETFROM:+0200
TZOFFSETTO:+0100
TZNAME:CET
DTSTART:20241027T010000
END:STANDARD
BEGIN:DAYLIGHT
TZOFFSETFROM:+0100
TZOFFSETTO:+0200
TZNAME:CEST
DTSTART:20250330T010000
END:DAYLIGHT
BEGIN:STANDARD
TZOFFSETFROM:+0200
TZOFFSETTO:+0100
TZNAME:CET
DTSTART:20251026T010000
END:STANDARD
BEGIN:DAYLIGHT
TZOFFSETFROM:+0100
TZOFFSETTO:+0200
TZNAME:CEST
DTSTART:20260329T010000
END:DAYLIGHT
BEGIN:STANDARD
TZOFFSETFROM:+0200
TZOFFSETTO:+0100
TZNAME:CET
DTSTART:20261025T010000
END:STANDARD
END:VTIMEZONE
BEGIN:VEVENT
DTSTART;TZID=Europe/Paris:20250629T080000
DTEND;TZID=Europe/Paris:20250629T170000
DTSTAMP:20260424T094811
CREATED:20250623T165503Z
LAST-MODIFIED:20250623T165503Z
UID:30760-1751184000-1751216400@paroissescathedraletoulouse.fr
SUMMARY:Messes d'actions de grâces
DESCRIPTION:Samedi 28/06 :\n18h à ND de La Daurade \nDimanche 29/06 : \n9h30 à St Aubin\n10h30 à la Cathédrale\n11h à ND de La Dalbade
URL:https://paroissescathedraletoulouse.fr/event/messes-dactions-de-graces/
CATEGORIES:Evénement
ATTACH;FMTTYPE=image/png:https://paroissescathedraletoulouse.fr/wp-content/uploads/2025/06/2025-IG-messes-fin-annee-2025.png
END:VEVENT
BEGIN:VEVENT
DTSTART;TZID=Europe/Paris:20250629T103000
DTEND;TZID=Europe/Paris:20250629T113000
DTSTAMP:20260424T094811
CREATED:20250604T181202Z
LAST-MODIFIED:20250604T181202Z
UID:30747-1751193000-1751196600@paroissescathedraletoulouse.fr
SUMMARY:Premières Communions
DESCRIPTION:Le 29 juin à 10h30 à la Cathédrale pour les enfants de la paroisse.
URL:https://paroissescathedraletoulouse.fr/event/premieres-communions-2/
LOCATION:Cathédrale Saint-Etienne\, Place Saint Etienne\, Toulouse\, 31000\, France Métropolitaine
CATEGORIES:Evénement
ATTACH;FMTTYPE=image/png:https://paroissescathedraletoulouse.fr/wp-content/uploads/2025/05/2025-IG-1ere-communion.png
END:VEVENT
BEGIN:VEVENT
DTSTART;TZID=Europe/Paris:20250629T153000
DTEND;TZID=Europe/Paris:20250629T170000
DTSTAMP:20260424T094811
CREATED:20250604T180025Z
LAST-MODIFIED:20250604T180111Z
UID:30736-1751211000-1751216400@paroissescathedraletoulouse.fr
SUMMARY:Ordination Jean Baptiste Oneda
DESCRIPTION:Chers paroissiens\,\nj’ai la joie de vous annoncer que Monseigneur de Kerimel m’a appelé à l’ordination presbytérale. Je vous remercie de m’avoir accompagné jusqu’à présent\, je vous remercie de me donner l’exemple d’une paroisse vivante\, et animée de l’amour pour le Seigneur et son Eglise.\nJe vous invite tous à venir\, le 29 juin à 15h30 à la cathédrale pour partager ma joie de donner ma vie pour vous et pour le Seigneur. \nAbbé Jean-Baptiste Onéda
URL:https://paroissescathedraletoulouse.fr/event/ordination-jean-baptiste-oneda/
LOCATION:Cathédrale Saint-Etienne\, Place Saint Etienne\, Toulouse\, 31000\, France Métropolitaine
CATEGORIES:Evénement
ATTACH;FMTTYPE=image/jpeg:https://paroissescathedraletoulouse.fr/wp-content/uploads/2024/12/photo-JB-ONEDA-scaled.jpeg
END:VEVENT
END:VCALENDAR