BEGIN:VCALENDAR
VERSION:2.0
PRODID:-//Paroisses Cathédrale Toulouse - ECPv6.15.20//NONSGML v1.0//EN
CALSCALE:GREGORIAN
METHOD:PUBLISH
X-ORIGINAL-URL:https://paroissescathedraletoulouse.fr
X-WR-CALDESC:Évènements pour Paroisses Cathédrale Toulouse
REFRESH-INTERVAL;VALUE=DURATION:PT1H
X-Robots-Tag:noindex
X-PUBLISHED-TTL:PT1H
BEGIN:VTIMEZONE
TZID:Europe/Paris
BEGIN:DAYLIGHT
TZOFFSETFROM:+0100
TZOFFSETTO:+0200
TZNAME:CEST
DTSTART:20240331T010000
END:DAYLIGHT
BEGIN:STANDARD
TZOFFSETFROM:+0200
TZOFFSETTO:+0100
TZNAME:CET
DTSTART:20241027T010000
END:STANDARD
BEGIN:DAYLIGHT
TZOFFSETFROM:+0100
TZOFFSETTO:+0200
TZNAME:CEST
DTSTART:20250330T010000
END:DAYLIGHT
BEGIN:STANDARD
TZOFFSETFROM:+0200
TZOFFSETTO:+0100
TZNAME:CET
DTSTART:20251026T010000
END:STANDARD
BEGIN:DAYLIGHT
TZOFFSETFROM:+0100
TZOFFSETTO:+0200
TZNAME:CEST
DTSTART:20260329T010000
END:DAYLIGHT
BEGIN:STANDARD
TZOFFSETFROM:+0200
TZOFFSETTO:+0100
TZNAME:CET
DTSTART:20261025T010000
END:STANDARD
END:VTIMEZONE
BEGIN:VEVENT
DTSTART;TZID=Europe/Paris:20250622T103000
DTEND;TZID=Europe/Paris:20250622T170000
DTSTAMP:20260424T094833
CREATED:20250604T180738Z
LAST-MODIFIED:20250604T180738Z
UID:30743-1750588200-1750611600@paroissescathedraletoulouse.fr
SUMMARY:Fête du Saint Sacrement
DESCRIPTION:Deux semaines après la Pentecôte\, nous fêterons la fête Dieu\, la fête du Saint Sacrement.\nCette fête a été instituée pendant la période médiévale pour affirmer la présence de Jésus-Christ dans le sacrement de l’eucharistie. Le concile de Trente (1515-1563) y voit une profession de foi publique en la présence réelle du Christ dans l’eucharistie.\nDepuis le concile Vatican II la fête Dieu est appelée la fête du Saint Sacrement du Corps et du Sang du Christ. \nElle nous appelle à approfondir le sens de l’eucharistie. Cette fête nous rappelle aussi l’amour de Dieu pour son peuple qu’Il continue de nourrir\, chaque jour\, de son Corps et son Sang. Profitons de cette fête pour prendre un temps d’adoration auprès de nos tabernacles en redisant cette prière « Mon Seigneur et mon Dieu\, je crois fermement que tu es ici\, que tu me vois que tu m’entends. Je T’adore avec une profonde révérence. Je Te demande le pardon de mes péchés et la grâce de faire avec profit ce moment de prière. »\nNous pourrons conclure ce temps d’adoration en faisant une communion spirituelle en disant : « Mon Dieu\, je voudrais te recevoir avec la pureté l’humilité et la dévotion avec lesquelles Ta Sainte Mère Te reçut\, avec l’esprit et la ferveur des saints. » \nAbbé Jean-Baptiste Onéda
URL:https://paroissescathedraletoulouse.fr/event/fete-du-saint-sacrement/
LOCATION:Cathédrale Saint-Etienne\, Place Saint Etienne\, Toulouse\, 31000\, France Métropolitaine
CATEGORIES:Evénement
ATTACH;FMTTYPE=image/png:https://paroissescathedraletoulouse.fr/wp-content/uploads/2025/06/2025-IG-Fete-saint-sacrement.png
END:VEVENT
END:VCALENDAR