BEGIN:VCALENDAR
VERSION:2.0
PRODID:-//Paroisses Cathédrale Toulouse - ECPv6.15.20//NONSGML v1.0//EN
CALSCALE:GREGORIAN
METHOD:PUBLISH
X-ORIGINAL-URL:https://paroissescathedraletoulouse.fr
X-WR-CALDESC:Évènements pour Paroisses Cathédrale Toulouse
REFRESH-INTERVAL;VALUE=DURATION:PT1H
X-Robots-Tag:noindex
X-PUBLISHED-TTL:PT1H
BEGIN:VTIMEZONE
TZID:Europe/Paris
BEGIN:DAYLIGHT
TZOFFSETFROM:+0100
TZOFFSETTO:+0200
TZNAME:CEST
DTSTART:20240331T010000
END:DAYLIGHT
BEGIN:STANDARD
TZOFFSETFROM:+0200
TZOFFSETTO:+0100
TZNAME:CET
DTSTART:20241027T010000
END:STANDARD
BEGIN:DAYLIGHT
TZOFFSETFROM:+0100
TZOFFSETTO:+0200
TZNAME:CEST
DTSTART:20250330T010000
END:DAYLIGHT
BEGIN:STANDARD
TZOFFSETFROM:+0200
TZOFFSETTO:+0100
TZNAME:CET
DTSTART:20251026T010000
END:STANDARD
BEGIN:DAYLIGHT
TZOFFSETFROM:+0100
TZOFFSETTO:+0200
TZNAME:CEST
DTSTART:20260329T010000
END:DAYLIGHT
BEGIN:STANDARD
TZOFFSETFROM:+0200
TZOFFSETTO:+0100
TZNAME:CET
DTSTART:20261025T010000
END:STANDARD
END:VTIMEZONE
BEGIN:VEVENT
DTSTART;TZID=Europe/Paris:20250111T180000
DTEND;TZID=Europe/Paris:20250111T190000
DTSTAMP:20260424T174443
CREATED:20250102T191532Z
LAST-MODIFIED:20250108T182618Z
UID:30255-1736618400-1736622000@paroissescathedraletoulouse.fr
SUMMARY:Entrée en catéchuménat
DESCRIPTION:Entrée en catéchuménat au cours de la messe de 18h à ND de la Daurade
URL:https://paroissescathedraletoulouse.fr/event/entree-en-catechumenat/
LOCATION:Basilique Notre-Dame La Daurade\, place de la Daurade\, Toulouse\, 31000\, France
CATEGORIES:Evénement
ATTACH;FMTTYPE=image/jpeg:https://paroissescathedraletoulouse.fr/wp-content/uploads/2024/01/catechumenat.jpg
END:VEVENT
END:VCALENDAR