BEGIN:VCALENDAR
VERSION:2.0
PRODID:-//Paroisses Cathédrale Toulouse - ECPv6.15.20//NONSGML v1.0//EN
CALSCALE:GREGORIAN
METHOD:PUBLISH
X-ORIGINAL-URL:https://paroissescathedraletoulouse.fr
X-WR-CALDESC:Évènements pour Paroisses Cathédrale Toulouse
REFRESH-INTERVAL;VALUE=DURATION:PT1H
X-Robots-Tag:noindex
X-PUBLISHED-TTL:PT1H
BEGIN:VTIMEZONE
TZID:Europe/Paris
BEGIN:DAYLIGHT
TZOFFSETFROM:+0100
TZOFFSETTO:+0200
TZNAME:CEST
DTSTART:20240331T010000
END:DAYLIGHT
BEGIN:STANDARD
TZOFFSETFROM:+0200
TZOFFSETTO:+0100
TZNAME:CET
DTSTART:20241027T010000
END:STANDARD
BEGIN:DAYLIGHT
TZOFFSETFROM:+0100
TZOFFSETTO:+0200
TZNAME:CEST
DTSTART:20250330T010000
END:DAYLIGHT
BEGIN:STANDARD
TZOFFSETFROM:+0200
TZOFFSETTO:+0100
TZNAME:CET
DTSTART:20251026T010000
END:STANDARD
BEGIN:DAYLIGHT
TZOFFSETFROM:+0100
TZOFFSETTO:+0200
TZNAME:CEST
DTSTART:20260329T010000
END:DAYLIGHT
BEGIN:STANDARD
TZOFFSETFROM:+0200
TZOFFSETTO:+0100
TZNAME:CET
DTSTART:20261025T010000
END:STANDARD
END:VTIMEZONE
BEGIN:VEVENT
DTSTART;TZID=Europe/Paris:20250105T144500
DTEND;TZID=Europe/Paris:20250105T170000
DTSTAMP:20260424T174443
CREATED:20241206T092032Z
LAST-MODIFIED:20241206T092032Z
UID:30182-1736088300-1736096400@paroissescathedraletoulouse.fr
SUMMARY:Procession et messe d'ouverture du jubilé
DESCRIPTION:A 14h45 | Procession\nDépart du Sanctuaire SaintJérôme avec arrivée à la cathédrale Saint-Étienne\nA 15h30\nMesse Solennelle d’ouverture du Jubilé en la cathédrale Saint-Étienne
URL:https://paroissescathedraletoulouse.fr/event/procession-et-messe-douverture-du-jubile/
LOCATION:Cathédrale Saint-Etienne\, Place Saint Etienne\, Toulouse\, 31000\, France Métropolitaine
CATEGORIES:Evénement
ATTACH;FMTTYPE=image/png:https://paroissescathedraletoulouse.fr/wp-content/uploads/2024/12/jubile-2025-png.png
END:VEVENT
BEGIN:VEVENT
DTSTART;TZID=Europe/Paris:20250105T153000
DTEND;TZID=Europe/Paris:20250105T170000
DTSTAMP:20260424T174443
CREATED:20250102T215032Z
LAST-MODIFIED:20250102T215052Z
UID:30264-1736091000-1736096400@paroissescathedraletoulouse.fr
SUMMARY:Ordination diaconale de Jean Baptiste Oneda
DESCRIPTION:Ce dimanche 5 janvier Jean Baptiste Oneda sera ordonné diacre à 15h30 à la Cathédrale Saint Etienne. \nLa célébration commencera à 14h45 à saint Jérome avec la procession d’ouverture de l’année jubilaire
URL:https://paroissescathedraletoulouse.fr/event/ordination-diaconale-de-jb-oneda/
LOCATION:cathédrale saint Etienne\, place saint Etienne\, toulouse\, 31000
CATEGORIES:Evénement
ATTACH;FMTTYPE=image/jpeg:https://paroissescathedraletoulouse.fr/wp-content/uploads/2025/01/ecc3b531-d6ba-4242-8c68-79653743f29a.jpg
END:VEVENT
END:VCALENDAR