BEGIN:VCALENDAR
VERSION:2.0
PRODID:-//Paroisses Cathédrale Toulouse - ECPv6.15.20//NONSGML v1.0//EN
CALSCALE:GREGORIAN
METHOD:PUBLISH
X-WR-CALNAME:Paroisses Cathédrale Toulouse
X-ORIGINAL-URL:https://paroissescathedraletoulouse.fr
X-WR-CALDESC:Évènements pour Paroisses Cathédrale Toulouse
REFRESH-INTERVAL;VALUE=DURATION:PT1H
X-Robots-Tag:noindex
X-PUBLISHED-TTL:PT1H
BEGIN:VTIMEZONE
TZID:Europe/Paris
BEGIN:DAYLIGHT
TZOFFSETFROM:+0100
TZOFFSETTO:+0200
TZNAME:CEST
DTSTART:20240331T010000
END:DAYLIGHT
BEGIN:STANDARD
TZOFFSETFROM:+0200
TZOFFSETTO:+0100
TZNAME:CET
DTSTART:20241027T010000
END:STANDARD
BEGIN:DAYLIGHT
TZOFFSETFROM:+0100
TZOFFSETTO:+0200
TZNAME:CEST
DTSTART:20250330T010000
END:DAYLIGHT
BEGIN:STANDARD
TZOFFSETFROM:+0200
TZOFFSETTO:+0100
TZNAME:CET
DTSTART:20251026T010000
END:STANDARD
BEGIN:DAYLIGHT
TZOFFSETFROM:+0100
TZOFFSETTO:+0200
TZNAME:CEST
DTSTART:20260329T010000
END:DAYLIGHT
BEGIN:STANDARD
TZOFFSETFROM:+0200
TZOFFSETTO:+0100
TZNAME:CET
DTSTART:20261025T010000
END:STANDARD
END:VTIMEZONE
BEGIN:VEVENT
DTSTART;TZID=Europe/Paris:20250404T150000
DTEND;TZID=Europe/Paris:20250404T153000
DTSTAMP:20260424T110533
CREATED:20250316T183050Z
LAST-MODIFIED:20250316T183050Z
UID:30509-1743778800-1743780600@paroissescathedraletoulouse.fr
SUMMARY:Chemin de croix
DESCRIPTION:Chemin de croix à 15h tous les vendredis de carême
URL:https://paroissescathedraletoulouse.fr/event/chemin-de-croix-5/
LOCATION:Cathédrale Saint-Etienne\, Place Saint Etienne\, Toulouse\, 31000\, France Métropolitaine
CATEGORIES:Evénement
ATTACH;FMTTYPE=image/png:https://paroissescathedraletoulouse.fr/wp-content/uploads/2025/03/2025-IG-chemin-de-croix.png
END:VEVENT
BEGIN:VEVENT
DTSTART;TZID=Europe/Paris:20250405T180000
DTEND;TZID=Europe/Paris:20250405T190000
DTSTAMP:20260424T110533
CREATED:20250316T183840Z
LAST-MODIFIED:20250316T183840Z
UID:30520-1743876000-1743879600@paroissescathedraletoulouse.fr
SUMMARY:Messe 3e scrutin
DESCRIPTION:
URL:https://paroissescathedraletoulouse.fr/event/messe-3e-scrutin/
LOCATION:Basilique Notre-Dame La Daurade\, place de la Daurade\, Toulouse\, 31000\, France
CATEGORIES:Evénement
ATTACH;FMTTYPE=image/png:https://paroissescathedraletoulouse.fr/wp-content/uploads/2025/03/2025-IG-messe-3eme-scrutin.png
END:VEVENT
BEGIN:VEVENT
DTSTART;TZID=Europe/Paris:20250410T203000
DTEND;TZID=Europe/Paris:20250410T213000
DTSTAMP:20260424T110533
CREATED:20250112T162443Z
LAST-MODIFIED:20250112T162443Z
UID:30293-1744317000-1744320600@paroissescathedraletoulouse.fr
SUMMARY:Dieu en questions
DESCRIPTION:Pourquoi se battre si nous attendons la fin des temps ? \nRetrouvez ici toutes les infos sur le parcours Dieu en questions
URL:https://paroissescathedraletoulouse.fr/event/dieu-en-questions-4/
LOCATION:Salle Saint Tarcissius\, 15 rue Ste Anne\, Toulouse\, 31000
CATEGORIES:Evénement
ATTACH;FMTTYPE=image/jpeg:https://paroissescathedraletoulouse.fr/wp-content/uploads/2023/08/2023-DIEU-EN-QUESTIONS-RS.jpg
END:VEVENT
BEGIN:VEVENT
DTSTART;TZID=Europe/Paris:20250411T150000
DTEND;TZID=Europe/Paris:20250411T153000
DTSTAMP:20260424T110533
CREATED:20250316T183230Z
LAST-MODIFIED:20250316T183230Z
UID:30511-1744383600-1744385400@paroissescathedraletoulouse.fr
SUMMARY:Chemin de croix
DESCRIPTION:Chemin de croix à 15h tous les vendredis de carême
URL:https://paroissescathedraletoulouse.fr/event/chemin-de-croix-6/
LOCATION:Cathédrale Saint-Etienne\, Place Saint Etienne\, Toulouse\, 31000\, France Métropolitaine
CATEGORIES:Evénement
ATTACH;FMTTYPE=image/png:https://paroissescathedraletoulouse.fr/wp-content/uploads/2025/03/2025-IG-chemin-de-croix.png
END:VEVENT
BEGIN:VEVENT
DTSTART;TZID=Europe/Paris:20250413T080000
DTEND;TZID=Europe/Paris:20250413T170000
DTSTAMP:20260424T110533
CREATED:20250316T184007Z
LAST-MODIFIED:20250316T184007Z
UID:30523-1744531200-1744563600@paroissescathedraletoulouse.fr
SUMMARY:Dimanche des Rameaux
DESCRIPTION:
URL:https://paroissescathedraletoulouse.fr/event/dimanche-des-rameaux/
CATEGORIES:Evénement
ATTACH;FMTTYPE=image/png:https://paroissescathedraletoulouse.fr/wp-content/uploads/2025/03/2025-IG-Rameaux.png
END:VEVENT
BEGIN:VEVENT
DTSTART;TZID=Europe/Paris:20250413T150000
DTEND;TZID=Europe/Paris:20250413T170000
DTSTAMP:20260424T110533
CREATED:20250112T165939Z
LAST-MODIFIED:20250112T165939Z
UID:30312-1744556400-1744563600@paroissescathedraletoulouse.fr
SUMMARY:Dimanche de la Daurade
DESCRIPTION:15h concert\n15h30 conférence \nPourquoi connaitre et lire Saint Thomas d’Aquin aujourd’hui ?\nPhilippe-Marie Margelidon – Professeur de théologie\, Directeur de la revue Thomiste\nPrécédée d’un concert par Gilles Desrochers\, organiste titulaire au couvent des Dominicains de Toulouse\, Œuvres de Bach et Béodard
URL:https://paroissescathedraletoulouse.fr/event/dimanche-de-la-daurade-6/
LOCATION:Basilique Notre-Dame La Daurade\, place de la Daurade\, Toulouse\, 31000\, France
CATEGORIES:Evénement
ATTACH;FMTTYPE=image/png:https://paroissescathedraletoulouse.fr/wp-content/uploads/2024/09/2024-IG-Visuel-Dimanches-de-La-Daurade.png
END:VEVENT
BEGIN:VEVENT
DTSTART;TZID=Europe/Paris:20250417T180000
DTEND;TZID=Europe/Paris:20250417T200000
DTSTAMP:20260424T110533
CREATED:20250316T184328Z
LAST-MODIFIED:20250316T184328Z
UID:30529-1744912800-1744920000@paroissescathedraletoulouse.fr
SUMMARY:Jeudi Saint
DESCRIPTION:
URL:https://paroissescathedraletoulouse.fr/event/jeudi-saint/
CATEGORIES:Evénement
ATTACH;FMTTYPE=image/png:https://paroissescathedraletoulouse.fr/wp-content/uploads/2025/03/2025-IG-Jeudi-saint.png
END:VEVENT
BEGIN:VEVENT
DTSTART;TZID=Europe/Paris:20250417T200000
DTEND;TZID=Europe/Paris:20250418T170000
DTSTAMP:20260424T110533
CREATED:20250316T184200Z
LAST-MODIFIED:20250316T184200Z
UID:30526-1744920000-1744995600@paroissescathedraletoulouse.fr
SUMMARY:Nuit d'adoration au reposoir
DESCRIPTION:
URL:https://paroissescathedraletoulouse.fr/event/nuit-dadoration-au-reposoir/
CATEGORIES:Evénement
ATTACH;FMTTYPE=image/png:https://paroissescathedraletoulouse.fr/wp-content/uploads/2025/03/2025-IG-nuit-adoration.png
END:VEVENT
BEGIN:VEVENT
DTSTART;TZID=Europe/Paris:20250418T150000
DTEND;TZID=Europe/Paris:20250418T160000
DTSTAMP:20260424T110533
CREATED:20250413T184416Z
LAST-MODIFIED:20250413T184416Z
UID:30617-1744988400-1744992000@paroissescathedraletoulouse.fr
SUMMARY:Chemin de croix
DESCRIPTION:
URL:https://paroissescathedraletoulouse.fr/event/chemin-de-croix-7/
CATEGORIES:Evénement
ATTACH;FMTTYPE=image/png:https://paroissescathedraletoulouse.fr/wp-content/uploads/2025/04/2025-IG-chemin-croix-vendredi-saint.png
END:VEVENT
BEGIN:VEVENT
DTSTART;TZID=Europe/Paris:20250418T180000
DTEND;TZID=Europe/Paris:20250418T200000
DTSTAMP:20260424T110533
CREATED:20250316T184504Z
LAST-MODIFIED:20250316T184504Z
UID:30532-1744999200-1745006400@paroissescathedraletoulouse.fr
SUMMARY:Vendredi Saint
DESCRIPTION:
URL:https://paroissescathedraletoulouse.fr/event/vendredi-saint/
CATEGORIES:Evénement
ATTACH;FMTTYPE=image/png:https://paroissescathedraletoulouse.fr/wp-content/uploads/2025/03/2025-IG-Vendredi-Saint.png
END:VEVENT
BEGIN:VEVENT
DTSTART;TZID=Europe/Paris:20250423T190000
DTEND;TZID=Europe/Paris:20250423T203000
DTSTAMP:20260424T110533
CREATED:20250422T081421Z
LAST-MODIFIED:20250422T081421Z
UID:30638-1745434800-1745440200@paroissescathedraletoulouse.fr
SUMMARY:Messe pour le pape Francois
DESCRIPTION:Mgr de Kerimel célèbrera une messe pour le repos de l’ame du saint Père
URL:https://paroissescathedraletoulouse.fr/event/messe-pour-le-pape-francois/
LOCATION:Cathédrale saint Etienne\, place saint Etienne \, Toulouse\, 31000
CATEGORIES:Evénement
ATTACH;FMTTYPE=image/jpeg:https://paroissescathedraletoulouse.fr/wp-content/uploads/2025/04/IMG_4149.jpeg
END:VEVENT
BEGIN:VEVENT
DTSTART;TZID=Europe/Paris:20250429T200000
DTEND;TZID=Europe/Paris:20250429T220000
DTSTAMP:20260424T110533
CREATED:20250422T145801Z
LAST-MODIFIED:20250422T145801Z
UID:30642-1745956800-1745964000@paroissescathedraletoulouse.fr
SUMMARY:Veillée résurrection - collège lycée
DESCRIPTION:une véillée pour les collégiens et lycéens\, pour gouter la joie et la puissance de la résurrection du Christ dans nos vies
URL:https://paroissescathedraletoulouse.fr/event/veillee-resurrection-college-lycee/
LOCATION:Cathédrale saint Etienne\, place saint Etienne \, Toulouse\, 31000
CATEGORIES:Evénement
ATTACH;FMTTYPE=image/jpeg:https://paroissescathedraletoulouse.fr/wp-content/uploads/2025/04/edward-cisneros-QSa-uv4WJ0k-unsplash-scaled.jpg
END:VEVENT
END:VCALENDAR