BEGIN:VCALENDAR
VERSION:2.0
PRODID:-//Paroisses Cathédrale Toulouse - ECPv6.15.20//NONSGML v1.0//EN
CALSCALE:GREGORIAN
METHOD:PUBLISH
X-WR-CALNAME:Paroisses Cathédrale Toulouse
X-ORIGINAL-URL:https://paroissescathedraletoulouse.fr
X-WR-CALDESC:Évènements pour Paroisses Cathédrale Toulouse
REFRESH-INTERVAL;VALUE=DURATION:PT1H
X-Robots-Tag:noindex
X-PUBLISHED-TTL:PT1H
BEGIN:VTIMEZONE
TZID:Europe/Paris
BEGIN:DAYLIGHT
TZOFFSETFROM:+0100
TZOFFSETTO:+0200
TZNAME:CEST
DTSTART:20240331T010000
END:DAYLIGHT
BEGIN:STANDARD
TZOFFSETFROM:+0200
TZOFFSETTO:+0100
TZNAME:CET
DTSTART:20241027T010000
END:STANDARD
BEGIN:DAYLIGHT
TZOFFSETFROM:+0100
TZOFFSETTO:+0200
TZNAME:CEST
DTSTART:20250330T010000
END:DAYLIGHT
BEGIN:STANDARD
TZOFFSETFROM:+0200
TZOFFSETTO:+0100
TZNAME:CET
DTSTART:20251026T010000
END:STANDARD
BEGIN:DAYLIGHT
TZOFFSETFROM:+0100
TZOFFSETTO:+0200
TZNAME:CEST
DTSTART:20260329T010000
END:DAYLIGHT
BEGIN:STANDARD
TZOFFSETFROM:+0200
TZOFFSETTO:+0100
TZNAME:CET
DTSTART:20261025T010000
END:STANDARD
END:VTIMEZONE
BEGIN:VEVENT
DTSTART;TZID=Europe/Paris:20250305T080000
DTEND;TZID=Europe/Paris:20250305T190000
DTSTAMP:20260424T122655
CREATED:20250228T113138Z
LAST-MODIFIED:20250228T130318Z
UID:30406-1741161600-1741201200@paroissescathedraletoulouse.fr
SUMMARY:Mercredi des Cendres
DESCRIPTION:Horaires des messes : \n8h Cathédrale St Etienne\n9h St Aubin\n12h ND de La Daurade\n18h Cathédrale St Etienne\, célébrée par Mgr de Kerimel\n18h30 ND de La Daurade\n19h ND de La Dalbade\, avec la paroisse étudiante \nConfessions : après toutes les messes \n 
URL:https://paroissescathedraletoulouse.fr/event/mercredi-des-cendres/
CATEGORIES:Evénement
ATTACH;FMTTYPE=image/png:https://paroissescathedraletoulouse.fr/wp-content/uploads/2025/02/2025-IG-Cendres.png
END:VEVENT
BEGIN:VEVENT
DTSTART;TZID=Europe/Paris:20250306T203000
DTEND;TZID=Europe/Paris:20250306T213000
DTSTAMP:20260424T122655
CREATED:20250112T162011Z
LAST-MODIFIED:20250112T162304Z
UID:30291-1741293000-1741296600@paroissescathedraletoulouse.fr
SUMMARY:Dieu en questions
DESCRIPTION:La confession\, comment ça marche ? \nRetrouvez ici toutes les infos sur le parcours Dieu en questions.
URL:https://paroissescathedraletoulouse.fr/event/dieu-en-questions-2/
LOCATION:Salle Saint Tarcissius\, 15 rue Ste Anne\, Toulouse\, 31000
CATEGORIES:Evénement
ATTACH;FMTTYPE=image/jpeg:https://paroissescathedraletoulouse.fr/wp-content/uploads/2023/08/2023-DIEU-EN-QUESTIONS-RS.jpg
END:VEVENT
BEGIN:VEVENT
DTSTART;TZID=Europe/Paris:20250307T150000
DTEND;TZID=Europe/Paris:20250307T160000
DTSTAMP:20260424T122655
CREATED:20250301T153333Z
LAST-MODIFIED:20250304T175150Z
UID:30444-1741359600-1741363200@paroissescathedraletoulouse.fr
SUMMARY:Chemin de croix
DESCRIPTION:Chemin de Croix le vendredi 7/03 à 15h puis tous les vendredis de carême
URL:https://paroissescathedraletoulouse.fr/event/chemin-de-croix/
LOCATION:Cathédrale Saint-Etienne\, Place Saint Etienne\, Toulouse\, 31000\, France Métropolitaine
CATEGORIES:Evénement
ATTACH;FMTTYPE=image/jpeg:https://paroissescathedraletoulouse.fr/wp-content/uploads/2025/03/Chemindecroix.jpg
END:VEVENT
BEGIN:VEVENT
DTSTART;TZID=Europe/Paris:20250308T170000
DTEND;TZID=Europe/Paris:20250309T100000
DTSTAMP:20260424T122655
CREATED:20250301T153654Z
LAST-MODIFIED:20250307T154313Z
UID:30446-1741453200-1741514400@paroissescathedraletoulouse.fr
SUMMARY:Nuit d'adoration entrée en carême
DESCRIPTION:venez passer une heure d’adoration auprés de Jésus cette nuit à La Chapelle sainte Anne\, pour vous inscrire: https://doodle.com/meeting/participate/id/erBoWk4e/vote \n 
URL:https://paroissescathedraletoulouse.fr/event/nuit-dadoration-entree-en-careme/
LOCATION:Chapelle Sainte-Anne\, 15 Rue Sainte-Anne\, Toulouse\, 31000\, France
CATEGORIES:Evénement
ATTACH;FMTTYPE=image/jpeg:https://paroissescathedraletoulouse.fr/wp-content/uploads/2022/11/adoration-bandeau.jpg
END:VEVENT
BEGIN:VEVENT
DTSTART;TZID=Europe/Paris:20250309T113000
DTEND;TZID=Europe/Paris:20250309T143000
DTSTAMP:20260424T122655
CREATED:20250304T175740Z
LAST-MODIFIED:20250304T175740Z
UID:30481-1741519800-1741530600@paroissescathedraletoulouse.fr
SUMMARY:Lancement repas Tarcisius
DESCRIPTION:Venez servir vos frères et soeurs vivant dans la rue ! \nInfos et inscriptions par ici
URL:https://paroissescathedraletoulouse.fr/event/lancement-repas-tarcisius/
LOCATION:Cour Sainte-Anne\, 15\, rue Sainte-Anne\, Toulouse\, 31000\, France
CATEGORIES:Evénement
ATTACH;FMTTYPE=image/png:https://paroissescathedraletoulouse.fr/wp-content/uploads/2024/11/2024-IG-repas-Tarcisius.png
END:VEVENT
BEGIN:VEVENT
DTSTART;TZID=Europe/Paris:20250313T200000
DTEND;TZID=Europe/Paris:20250313T210000
DTSTAMP:20260424T122655
CREATED:20250112T164726Z
LAST-MODIFIED:20250301T153912Z
UID:30302-1741896000-1741899600@paroissescathedraletoulouse.fr
SUMMARY:Veillée Esprit Saint
DESCRIPTION:Veillée pénitentielle à la Cathédrale
URL:https://paroissescathedraletoulouse.fr/event/veillee-esprit-saint-7/
LOCATION:Cathédrale Saint-Etienne\, Place Saint Etienne\, Toulouse\, 31000\, France Métropolitaine
CATEGORIES:Evénement
ATTACH;FMTTYPE=image/png:https://paroissescathedraletoulouse.fr/wp-content/uploads/2024/07/2024-IG-Veillee-a-lEsprit-Saint.png
END:VEVENT
BEGIN:VEVENT
DTSTART;TZID=Europe/Paris:20250314T150000
DTEND;TZID=Europe/Paris:20250314T153000
DTSTAMP:20260424T122655
CREATED:20250309T191734Z
LAST-MODIFIED:20250309T191848Z
UID:30497-1741964400-1741966200@paroissescathedraletoulouse.fr
SUMMARY:Chemin de croix
DESCRIPTION:Chemin de croix tous les vendredis de carême\, à 15h à la cathédrale
URL:https://paroissescathedraletoulouse.fr/event/chemin-de-croix-2/
LOCATION:Cathédrale Saint-Etienne\, Place Saint Etienne\, Toulouse\, 31000\, France Métropolitaine
CATEGORIES:Evénement
ATTACH;FMTTYPE=image/jpeg:https://paroissescathedraletoulouse.fr/wp-content/uploads/2025/03/Careme.jpg
END:VEVENT
BEGIN:VEVENT
DTSTART;TZID=Europe/Paris:20250316T150000
DTEND;TZID=Europe/Paris:20250316T170000
DTSTAMP:20260424T122655
CREATED:20250112T165719Z
LAST-MODIFIED:20250112T165719Z
UID:30310-1742137200-1742144400@paroissescathedraletoulouse.fr
SUMMARY:Dimanche de La Daurade
DESCRIPTION:15h concert\n15h30 conférence \nLe décor des XVIIème et XVIIIème siècles de la Chartreuse de Toulouse\,\nMichel Aliaga – Architecte Historien du Patrimoine\nPrécédée d’un concert par Lys Lorente\, Œuvres de Bach et Mendelssohn
URL:https://paroissescathedraletoulouse.fr/event/dimanche-de-la-daurade-5/
LOCATION:Basilique Notre-Dame La Daurade\, place de la Daurade\, Toulouse\, 31000\, France
CATEGORIES:Evénement
ATTACH;FMTTYPE=image/png:https://paroissescathedraletoulouse.fr/wp-content/uploads/2024/09/2024-IG-Visuel-Dimanches-de-La-Daurade.png
END:VEVENT
BEGIN:VEVENT
DTSTART;TZID=Europe/Paris:20250321T150000
DTEND;TZID=Europe/Paris:20250321T153000
DTSTAMP:20260424T122655
CREATED:20250316T181717Z
LAST-MODIFIED:20250316T181717Z
UID:30504-1742569200-1742571000@paroissescathedraletoulouse.fr
SUMMARY:Chemin de croix
DESCRIPTION:Chemin de croix tous les vendredis de Carême à 15h
URL:https://paroissescathedraletoulouse.fr/event/chemin-de-croix-3/
LOCATION:Cathédrale Saint-Etienne\, Place Saint Etienne\, Toulouse\, 31000\, France Métropolitaine
CATEGORIES:Evénement
ATTACH;FMTTYPE=image/png:https://paroissescathedraletoulouse.fr/wp-content/uploads/2025/03/2025-IG-chemin-de-croix.png
END:VEVENT
BEGIN:VEVENT
DTSTART;TZID=Europe/Paris:20250322T150000
DTEND;TZID=Europe/Paris:20250322T160000
DTSTAMP:20260424T122655
CREATED:20250301T154427Z
LAST-MODIFIED:20250316T183355Z
UID:30449-1742655600-1742659200@paroissescathedraletoulouse.fr
SUMMARY:Conte pour enfant sur le chemin de croix
DESCRIPTION:
URL:https://paroissescathedraletoulouse.fr/event/conte-pour-enfant-sur-le-chemin-de-croix/
CATEGORIES:Evénement
ATTACH;FMTTYPE=image/png:https://paroissescathedraletoulouse.fr/wp-content/uploads/2025/03/2025-IG-conte-enfants.png
END:VEVENT
BEGIN:VEVENT
DTSTART;TZID=Europe/Paris:20250323T093000
DTEND;TZID=Europe/Paris:20250323T103000
DTSTAMP:20260424T122655
CREATED:20250316T183552Z
LAST-MODIFIED:20250316T183552Z
UID:30514-1742722200-1742725800@paroissescathedraletoulouse.fr
SUMMARY:Messe 1er scrutin
DESCRIPTION:
URL:https://paroissescathedraletoulouse.fr/event/messe-1er-scrutin/
LOCATION:Eglise Saint-Aubin\, Place Saint-Aubin\, Toulouse\, 31000\, France
CATEGORIES:Evénement
ATTACH;FMTTYPE=image/png:https://paroissescathedraletoulouse.fr/wp-content/uploads/2025/03/2025-IG-messe-1er-scrutin.png
END:VEVENT
BEGIN:VEVENT
DTSTART;TZID=Europe/Paris:20250325T080000
DTEND;TZID=Europe/Paris:20250325T170000
DTSTAMP:20260424T122655
CREATED:20250301T155451Z
LAST-MODIFIED:20250301T155451Z
UID:30453-1742889600-1742922000@paroissescathedraletoulouse.fr
SUMMARY:Fête de l'annonciation
DESCRIPTION:Messe 8h St Etienne / 9h St Aubin /18h00 ND La Daurade\, 18h30 ND de La Dalbade et 10h30 Messe SEM Quai de Tounis
URL:https://paroissescathedraletoulouse.fr/event/fete-de-lannonciation/
CATEGORIES:Evénement
ATTACH;FMTTYPE=image/jpeg:https://paroissescathedraletoulouse.fr/wp-content/uploads/2018/04/LAnnonciation-annonce-faite-archange-Gabriel-Vierge-Marie-maternite-divine_0_1100_930.jpg
END:VEVENT
BEGIN:VEVENT
DTSTART;TZID=Europe/Paris:20250326T200000
DTEND;TZID=Europe/Paris:20250326T213000
DTSTAMP:20260424T122655
CREATED:20250301T155608Z
LAST-MODIFIED:20250301T155608Z
UID:30456-1743019200-1743024600@paroissescathedraletoulouse.fr
SUMMARY:Veillée des mères
DESCRIPTION:
URL:https://paroissescathedraletoulouse.fr/event/veillee-des-meres-3/
LOCATION:Cathédrale Saint-Etienne\, Place Saint Etienne\, Toulouse\, 31000\, France Métropolitaine
CATEGORIES:Evénement
ATTACH;FMTTYPE=image/jpeg:https://paroissescathedraletoulouse.fr/wp-content/uploads/2024/04/veillee-maman-24.jpg
END:VEVENT
BEGIN:VEVENT
DTSTART;TZID=Europe/Paris:20250328T150000
DTEND;TZID=Europe/Paris:20250328T153000
DTSTAMP:20260424T122655
CREATED:20250316T182842Z
LAST-MODIFIED:20250316T182842Z
UID:30507-1743174000-1743175800@paroissescathedraletoulouse.fr
SUMMARY:Chemin de croix
DESCRIPTION:Chemin de croix à 15h tous les vendredis de carême
URL:https://paroissescathedraletoulouse.fr/event/chemin-de-croix-4/
LOCATION:Cathédrale Saint-Etienne\, Place Saint Etienne\, Toulouse\, 31000\, France Métropolitaine
CATEGORIES:Evénement
ATTACH;FMTTYPE=image/png:https://paroissescathedraletoulouse.fr/wp-content/uploads/2025/03/2025-IG-chemin-de-croix.png
END:VEVENT
BEGIN:VEVENT
DTSTART;TZID=Europe/Paris:20250329T090000
DTEND;TZID=Europe/Paris:20250329T170000
DTSTAMP:20260424T122655
CREATED:20241208T160815Z
LAST-MODIFIED:20250325T131314Z
UID:30202-1743238800-1743267600@paroissescathedraletoulouse.fr
SUMMARY:Journée des serviteurs 2025
DESCRIPTION:Une journée pour toutes les personnes qui servent dans notre paroisse\, pour prier\, nous former\, partager\, rire ensemble
URL:https://paroissescathedraletoulouse.fr/event/journee-des-serviteurs-2025/
LOCATION:Cathédrale saint Etienne\, place saint Etienne \, Toulouse\, 31000
CATEGORIES:Evénement,Servir
ATTACH;FMTTYPE=image/jpeg:https://paroissescathedraletoulouse.fr/wp-content/uploads/2024/07/slider-4-ete.jpg
END:VEVENT
BEGIN:VEVENT
DTSTART;TZID=Europe/Paris:20250330T103000
DTEND;TZID=Europe/Paris:20250330T113000
DTSTAMP:20260424T122655
CREATED:20250316T183704Z
LAST-MODIFIED:20250316T183704Z
UID:30517-1743330600-1743334200@paroissescathedraletoulouse.fr
SUMMARY:Messe 2e scrutin
DESCRIPTION:
URL:https://paroissescathedraletoulouse.fr/event/messe-2e-scrutin/
LOCATION:Cathédrale Saint-Etienne\, Place Saint Etienne\, Toulouse\, 31000\, France Métropolitaine
CATEGORIES:Evénement
ATTACH;FMTTYPE=image/png:https://paroissescathedraletoulouse.fr/wp-content/uploads/2025/03/2025-IG-messe-2eme-scrutin.png
END:VEVENT
END:VCALENDAR