BEGIN:VCALENDAR
VERSION:2.0
PRODID:-//Paroisses Cathédrale Toulouse - ECPv6.15.20//NONSGML v1.0//EN
CALSCALE:GREGORIAN
METHOD:PUBLISH
X-WR-CALNAME:Paroisses Cathédrale Toulouse
X-ORIGINAL-URL:https://paroissescathedraletoulouse.fr
X-WR-CALDESC:Évènements pour Paroisses Cathédrale Toulouse
REFRESH-INTERVAL;VALUE=DURATION:PT1H
X-Robots-Tag:noindex
X-PUBLISHED-TTL:PT1H
BEGIN:VTIMEZONE
TZID:Europe/Paris
BEGIN:DAYLIGHT
TZOFFSETFROM:+0100
TZOFFSETTO:+0200
TZNAME:CEST
DTSTART:20240331T010000
END:DAYLIGHT
BEGIN:STANDARD
TZOFFSETFROM:+0200
TZOFFSETTO:+0100
TZNAME:CET
DTSTART:20241027T010000
END:STANDARD
BEGIN:DAYLIGHT
TZOFFSETFROM:+0100
TZOFFSETTO:+0200
TZNAME:CEST
DTSTART:20250330T010000
END:DAYLIGHT
BEGIN:STANDARD
TZOFFSETFROM:+0200
TZOFFSETTO:+0100
TZNAME:CET
DTSTART:20251026T010000
END:STANDARD
BEGIN:DAYLIGHT
TZOFFSETFROM:+0100
TZOFFSETTO:+0200
TZNAME:CEST
DTSTART:20260329T010000
END:DAYLIGHT
BEGIN:STANDARD
TZOFFSETFROM:+0200
TZOFFSETTO:+0100
TZNAME:CET
DTSTART:20261025T010000
END:STANDARD
END:VTIMEZONE
BEGIN:VEVENT
DTSTART;TZID=Europe/Paris:20250206T203000
DTEND;TZID=Europe/Paris:20250206T213000
DTSTAMP:20260424T142044
CREATED:20250112T161743Z
LAST-MODIFIED:20250112T161743Z
UID:30289-1738873800-1738877400@paroissescathedraletoulouse.fr
SUMMARY:Dieu en questions
DESCRIPTION:Comment lire la Bible ? \nRetrouvez ici toutes les infos sur le parcours.
URL:https://paroissescathedraletoulouse.fr/event/dieu-en-questions/
LOCATION:Salle Saint Tarcissius\, 15 rue Ste Anne\, Toulouse\, 31000
CATEGORIES:Evénement
ATTACH;FMTTYPE=image/jpeg:https://paroissescathedraletoulouse.fr/wp-content/uploads/2023/08/2023-DIEU-EN-QUESTIONS-RS.jpg
END:VEVENT
BEGIN:VEVENT
DTSTART;TZID=Europe/Paris:20250209T150000
DTEND;TZID=Europe/Paris:20250209T163000
DTSTAMP:20260424T142044
CREATED:20250112T165532Z
LAST-MODIFIED:20250112T165532Z
UID:30308-1739113200-1739118600@paroissescathedraletoulouse.fr
SUMMARY:Dimanche de la Daurade
DESCRIPTION:15h concert\n15h30 conférence \nLe Cardinal Saliège\, défenseur de la cité\,\nJean-Claude Meyer – Docteur en droit et théologie\nPrécédée d’un concert par Pierre Barthez\, organiste titulaire de la cathédrale de Toulouse\, Œuvres de Mendelssohn-Bartholdy
URL:https://paroissescathedraletoulouse.fr/event/dimanche-de-la-daurade-4/
LOCATION:Basilique Notre-Dame La Daurade\, place de la Daurade\, Toulouse\, 31000\, France
CATEGORIES:Evénement
ATTACH;FMTTYPE=image/png:https://paroissescathedraletoulouse.fr/wp-content/uploads/2024/09/2024-IG-Visuel-Dimanches-de-La-Daurade.png
END:VEVENT
BEGIN:VEVENT
DTSTART;TZID=Europe/Paris:20250211T080000
DTEND;TZID=Europe/Paris:20250211T170000
DTSTAMP:20260424T142044
CREATED:20250207T174516Z
LAST-MODIFIED:20250207T174516Z
UID:30376-1739260800-1739293200@paroissescathedraletoulouse.fr
SUMMARY:Fête ND de Lourdes
DESCRIPTION:messe à 8h St Etienne\, 9h à St Aubin\, 18h à ND La Daurade\nmesse SEM à 15h30 à la résidence Dr Marie\, rue Ozenne
URL:https://paroissescathedraletoulouse.fr/event/fete-nd-de-lourdes/
CATEGORIES:Evénement
ATTACH;FMTTYPE=image/jpeg:https://paroissescathedraletoulouse.fr/wp-content/uploads/2019/06/lourdes-e1562146469357.jpeg
END:VEVENT
BEGIN:VEVENT
DTSTART;TZID=Europe/Paris:20250213T200000
DTEND;TZID=Europe/Paris:20250213T210000
DTSTAMP:20260424T142044
CREATED:20250112T163320Z
LAST-MODIFIED:20250112T163320Z
UID:30300-1739476800-1739480400@paroissescathedraletoulouse.fr
SUMMARY:Veillée Esprit Saint
DESCRIPTION:
URL:https://paroissescathedraletoulouse.fr/event/veillee-esprit-saint-6/
LOCATION:Basilique Notre-Dame La Daurade\, place de la Daurade\, Toulouse\, 31000\, France
CATEGORIES:Evénement
ATTACH;FMTTYPE=image/png:https://paroissescathedraletoulouse.fr/wp-content/uploads/2024/07/2024-IG-Veillee-a-lEsprit-Saint.png
END:VEVENT
END:VCALENDAR