BEGIN:VCALENDAR
VERSION:2.0
PRODID:-//Paroisses Cathédrale Toulouse - ECPv6.15.20//NONSGML v1.0//EN
CALSCALE:GREGORIAN
METHOD:PUBLISH
X-ORIGINAL-URL:https://paroissescathedraletoulouse.fr
X-WR-CALDESC:Évènements pour Paroisses Cathédrale Toulouse
REFRESH-INTERVAL;VALUE=DURATION:PT1H
X-Robots-Tag:noindex
X-PUBLISHED-TTL:PT1H
BEGIN:VTIMEZONE
TZID:Europe/Paris
BEGIN:DAYLIGHT
TZOFFSETFROM:+0100
TZOFFSETTO:+0200
TZNAME:CEST
DTSTART:20240331T010000
END:DAYLIGHT
BEGIN:STANDARD
TZOFFSETFROM:+0200
TZOFFSETTO:+0100
TZNAME:CET
DTSTART:20241027T010000
END:STANDARD
BEGIN:DAYLIGHT
TZOFFSETFROM:+0100
TZOFFSETTO:+0200
TZNAME:CEST
DTSTART:20250330T010000
END:DAYLIGHT
BEGIN:STANDARD
TZOFFSETFROM:+0200
TZOFFSETTO:+0100
TZNAME:CET
DTSTART:20251026T010000
END:STANDARD
BEGIN:DAYLIGHT
TZOFFSETFROM:+0100
TZOFFSETTO:+0200
TZNAME:CEST
DTSTART:20260329T010000
END:DAYLIGHT
BEGIN:STANDARD
TZOFFSETFROM:+0200
TZOFFSETTO:+0100
TZNAME:CET
DTSTART:20261025T010000
END:STANDARD
END:VTIMEZONE
BEGIN:VEVENT
DTSTART;TZID=Europe/Paris:20250101T103000
DTEND;TZID=Europe/Paris:20250101T180000
DTSTAMP:20260424T161001
CREATED:20241217T195947Z
LAST-MODIFIED:20241217T195947Z
UID:30222-1735727400-1735754400@paroissescathedraletoulouse.fr
SUMMARY:Messes du 1er janvier
DESCRIPTION:10h30 à la Cathédrale \n18h à ND de La Daurade \n18h30 à ND de La Dalbade
URL:https://paroissescathedraletoulouse.fr/event/messes-du-1er-janvier/
CATEGORIES:Evénement
ATTACH;FMTTYPE=image/png:https://paroissescathedraletoulouse.fr/wp-content/uploads/2024/12/2024-IG-Messe-1_01.png
END:VEVENT
BEGIN:VEVENT
DTSTART;TZID=Europe/Paris:20250105T144500
DTEND;TZID=Europe/Paris:20250105T170000
DTSTAMP:20260424T161001
CREATED:20241206T092032Z
LAST-MODIFIED:20241206T092032Z
UID:30182-1736088300-1736096400@paroissescathedraletoulouse.fr
SUMMARY:Procession et messe d'ouverture du jubilé
DESCRIPTION:A 14h45 | Procession\nDépart du Sanctuaire SaintJérôme avec arrivée à la cathédrale Saint-Étienne\nA 15h30\nMesse Solennelle d’ouverture du Jubilé en la cathédrale Saint-Étienne
URL:https://paroissescathedraletoulouse.fr/event/procession-et-messe-douverture-du-jubile/
LOCATION:Cathédrale Saint-Etienne\, Place Saint Etienne\, Toulouse\, 31000\, France Métropolitaine
CATEGORIES:Evénement
ATTACH;FMTTYPE=image/png:https://paroissescathedraletoulouse.fr/wp-content/uploads/2024/12/jubile-2025-png.png
END:VEVENT
BEGIN:VEVENT
DTSTART;TZID=Europe/Paris:20250105T153000
DTEND;TZID=Europe/Paris:20250105T170000
DTSTAMP:20260424T161001
CREATED:20250102T215032Z
LAST-MODIFIED:20250102T215052Z
UID:30264-1736091000-1736096400@paroissescathedraletoulouse.fr
SUMMARY:Ordination diaconale de Jean Baptiste Oneda
DESCRIPTION:Ce dimanche 5 janvier Jean Baptiste Oneda sera ordonné diacre à 15h30 à la Cathédrale Saint Etienne. \nLa célébration commencera à 14h45 à saint Jérome avec la procession d’ouverture de l’année jubilaire
URL:https://paroissescathedraletoulouse.fr/event/ordination-diaconale-de-jb-oneda/
LOCATION:cathédrale saint Etienne\, place saint Etienne\, toulouse\, 31000
CATEGORIES:Evénement
ATTACH;FMTTYPE=image/jpeg:https://paroissescathedraletoulouse.fr/wp-content/uploads/2025/01/ecc3b531-d6ba-4242-8c68-79653743f29a.jpg
END:VEVENT
BEGIN:VEVENT
DTSTART;TZID=Europe/Paris:20250108T200000
DTEND;TZID=Europe/Paris:20250108T220000
DTSTAMP:20260424T161001
CREATED:20241108T103420Z
LAST-MODIFIED:20241108T103420Z
UID:30095-1736366400-1736373600@paroissescathedraletoulouse.fr
SUMMARY:Lancement Parcours Alpha
DESCRIPTION:Le 8 janvier démarrera le prochain parcours Alpha de la paroisse et nous vous y invitons ! \n+ d’infos ici ! \n 
URL:https://paroissescathedraletoulouse.fr/event/lancement-parcours-alpha/
CATEGORIES:Evénement
ATTACH;FMTTYPE=image/jpeg:https://paroissescathedraletoulouse.fr/wp-content/uploads/2022/11/alpha.jpg
END:VEVENT
BEGIN:VEVENT
DTSTART;TZID=Europe/Paris:20250109T203000
DTEND;TZID=Europe/Paris:20250109T220000
DTSTAMP:20260424T161001
CREATED:20250102T191240Z
LAST-MODIFIED:20250102T191240Z
UID:30253-1736454600-1736460000@paroissescathedraletoulouse.fr
SUMMARY:Parcours Dieu en question
DESCRIPTION:Parcours Dieu en question « 1700 ans du Concile de Nicée. Qu’est-ce que cela a changé ? » avec Père Jean-Jacques Rouchi
URL:https://paroissescathedraletoulouse.fr/event/parcours-dieu-en-question/
CATEGORIES:Evénement
ATTACH;FMTTYPE=image/jpeg:https://paroissescathedraletoulouse.fr/wp-content/uploads/2023/08/2023-DIEU-EN-QUESTIONS-RS.jpg
END:VEVENT
BEGIN:VEVENT
DTSTART;TZID=Europe/Paris:20250111T180000
DTEND;TZID=Europe/Paris:20250111T190000
DTSTAMP:20260424T161001
CREATED:20250102T191532Z
LAST-MODIFIED:20250108T182618Z
UID:30255-1736618400-1736622000@paroissescathedraletoulouse.fr
SUMMARY:Entrée en catéchuménat
DESCRIPTION:Entrée en catéchuménat au cours de la messe de 18h à ND de la Daurade
URL:https://paroissescathedraletoulouse.fr/event/entree-en-catechumenat/
LOCATION:Basilique Notre-Dame La Daurade\, place de la Daurade\, Toulouse\, 31000\, France
CATEGORIES:Evénement
ATTACH;FMTTYPE=image/jpeg:https://paroissescathedraletoulouse.fr/wp-content/uploads/2024/01/catechumenat.jpg
END:VEVENT
BEGIN:VEVENT
DTSTART;TZID=Europe/Paris:20250116T200000
DTEND;TZID=Europe/Paris:20250116T213000
DTSTAMP:20260424T161001
CREATED:20250102T191814Z
LAST-MODIFIED:20250102T191814Z
UID:30257-1737057600-1737063000@paroissescathedraletoulouse.fr
SUMMARY:Veillée Esprit Saint
DESCRIPTION:Venez invoquer l’Esprit Saint !
URL:https://paroissescathedraletoulouse.fr/event/veillee-esprit-saint-2/
LOCATION:Cathédrale Saint-Etienne\, Place Saint Etienne\, Toulouse\, 31000\, France Métropolitaine
CATEGORIES:Evénement
ATTACH;FMTTYPE=image/png:https://paroissescathedraletoulouse.fr/wp-content/uploads/2024/07/2024-IG-Veillee-a-lEsprit-Saint.png
END:VEVENT
BEGIN:VEVENT
DTSTART;TZID=Europe/Paris:20250125T103000
DTEND;TZID=Europe/Paris:20250125T113000
DTSTAMP:20260424T161001
CREATED:20250112T154650Z
LAST-MODIFIED:20250122T173216Z
UID:30280-1737801000-1737804600@paroissescathedraletoulouse.fr
SUMMARY:Messe solennités St Thomas d'Aquin
DESCRIPTION:10h30 : Messe grégorienne aux Jacobins\, présidée par Mgr de Kérimel prédicateur
URL:https://paroissescathedraletoulouse.fr/event/messe-solennites-st-thomas-daquin/
LOCATION:Eglise des Jacobins\, 69 rue Pargaminières\, Toulouse\, 31000
CATEGORIES:Evénement
ATTACH;FMTTYPE=image/png:https://paroissescathedraletoulouse.fr/wp-content/uploads/2025/01/2025-IG-Messe-Saint-Thomas-dAquin.png
END:VEVENT
BEGIN:VEVENT
DTSTART;TZID=Europe/Paris:20250126T103000
DTEND;TZID=Europe/Paris:20250126T113000
DTSTAMP:20260424T161001
CREATED:20250122T173402Z
LAST-MODIFIED:20250122T173402Z
UID:30334-1737887400-1737891000@paroissescathedraletoulouse.fr
SUMMARY:Maîtrise de la Cathédrale : prise d'aube
DESCRIPTION:
URL:https://paroissescathedraletoulouse.fr/event/maitrise-de-la-cathedrale-prise-daube/
LOCATION:Cathédrale Saint-Etienne\, Place Saint Etienne\, Toulouse\, 31000\, France Métropolitaine
CATEGORIES:Evénement
ATTACH;FMTTYPE=image/png:https://paroissescathedraletoulouse.fr/wp-content/uploads/2025/01/2025-IG-Prise-aube.png
END:VEVENT
BEGIN:VEVENT
DTSTART;TZID=Europe/Paris:20250126T150000
DTEND;TZID=Europe/Paris:20250126T170000
DTSTAMP:20260424T161001
CREATED:20250102T192009Z
LAST-MODIFIED:20250102T192009Z
UID:30259-1737903600-1737910800@paroissescathedraletoulouse.fr
SUMMARY:Dimanche de La Daurade
DESCRIPTION:15h offrande musicale d’orgue\nsuivie d’une intervention de Philippe Dauzet\, académie des jeux floraux « Les jeux floraux d’aujourd’hui\, fleuron du patrimoine »
URL:https://paroissescathedraletoulouse.fr/event/dimanche-de-la-daurade-3/
LOCATION:Basilique Notre-Dame La Daurade\, place de la Daurade\, Toulouse\, 31000\, France
CATEGORIES:Evénement
ATTACH;FMTTYPE=image/png:https://paroissescathedraletoulouse.fr/wp-content/uploads/2024/09/2024-IG-Visuel-Dimanches-de-La-Daurade.png
END:VEVENT
BEGIN:VEVENT
DTSTART;TZID=Europe/Paris:20250128T203000
DTEND;TZID=Europe/Paris:20250128T213000
DTSTAMP:20260424T161001
CREATED:20250102T192152Z
LAST-MODIFIED:20250122T173117Z
UID:30261-1738096200-1738099800@paroissescathedraletoulouse.fr
SUMMARY:Veillée des mères
DESCRIPTION:
URL:https://paroissescathedraletoulouse.fr/event/veillee-des-meres-2/
LOCATION:Cathédrale Saint-Etienne\, Place Saint Etienne\, Toulouse\, 31000\, France Métropolitaine
CATEGORIES:Evénement
ATTACH;FMTTYPE=image/png:https://paroissescathedraletoulouse.fr/wp-content/uploads/2025/01/2025-IG-Veillee-mamans.png
END:VEVENT
END:VCALENDAR