BEGIN:VCALENDAR
VERSION:2.0
PRODID:-//Paroisses Cathédrale Toulouse - ECPv6.15.20//NONSGML v1.0//EN
CALSCALE:GREGORIAN
METHOD:PUBLISH
X-WR-CALNAME:Paroisses Cathédrale Toulouse
X-ORIGINAL-URL:https://paroissescathedraletoulouse.fr
X-WR-CALDESC:Évènements pour Paroisses Cathédrale Toulouse
REFRESH-INTERVAL;VALUE=DURATION:PT1H
X-Robots-Tag:noindex
X-PUBLISHED-TTL:PT1H
BEGIN:VTIMEZONE
TZID:Europe/Paris
BEGIN:DAYLIGHT
TZOFFSETFROM:+0100
TZOFFSETTO:+0200
TZNAME:CEST
DTSTART:20230326T010000
END:DAYLIGHT
BEGIN:STANDARD
TZOFFSETFROM:+0200
TZOFFSETTO:+0100
TZNAME:CET
DTSTART:20231029T010000
END:STANDARD
BEGIN:DAYLIGHT
TZOFFSETFROM:+0100
TZOFFSETTO:+0200
TZNAME:CEST
DTSTART:20240331T010000
END:DAYLIGHT
BEGIN:STANDARD
TZOFFSETFROM:+0200
TZOFFSETTO:+0100
TZNAME:CET
DTSTART:20241027T010000
END:STANDARD
BEGIN:DAYLIGHT
TZOFFSETFROM:+0100
TZOFFSETTO:+0200
TZNAME:CEST
DTSTART:20250330T010000
END:DAYLIGHT
BEGIN:STANDARD
TZOFFSETFROM:+0200
TZOFFSETTO:+0100
TZNAME:CET
DTSTART:20251026T010000
END:STANDARD
END:VTIMEZONE
BEGIN:VEVENT
DTSTART;TZID=Europe/Paris:20241010T203000
DTEND;TZID=Europe/Paris:20241010T220000
DTSTAMP:20260424T202057
CREATED:20240710T143059Z
LAST-MODIFIED:20250903T200720Z
UID:20334-1728592200-1728597600@paroissescathedraletoulouse.fr
SUMMARY:Parcours Dieu en questions
DESCRIPTION:Thème de cette soirée : \nLa foi chrétienne et l’Extrême-Orient… Et si les bouddhistes avaient raison ?
URL:https://paroissescathedraletoulouse.fr/event/parcours-dieu-en-questions-4/
LOCATION:Salle Saint Tarcissius\, 15 rue Ste Anne\, Toulouse\, 31000
CATEGORIES:Evénement,Information
ATTACH;FMTTYPE=image/jpeg:https://paroissescathedraletoulouse.fr/wp-content/uploads/2023/08/2023-DIEU-EN-QUESTIONS-RS.jpg
END:VEVENT
BEGIN:VEVENT
DTSTART;TZID=Europe/Paris:20241012T093000
DTEND;TZID=Europe/Paris:20241012T170000
DTSTAMP:20260424T202057
CREATED:20240924T204515Z
LAST-MODIFIED:20250903T200720Z
UID:29789-1728725400-1728752400@paroissescathedraletoulouse.fr
SUMMARY:Pèlerinage du catéchisme à Pibrac
DESCRIPTION:Une journée pour marcher sur les pas de sainte Germaine de Pibrac\, découvrir cette petite sainte et son message si actuel. \nPour les enfants et leurs parents
URL:https://paroissescathedraletoulouse.fr/event/pelerinage-du-catechisme-a-pibrac/
LOCATION:Pibrac
CATEGORIES:Evénement,Information
ATTACH;FMTTYPE=image/jpeg:https://paroissescathedraletoulouse.fr/wp-content/uploads/2024/09/WhatsApp-Image-2024-09-24-at-11.56.51-2.jpeg
END:VEVENT
BEGIN:VEVENT
DTSTART;TZID=Europe/Paris:20241013T103000
DTEND;TZID=Europe/Paris:20241013T130000
DTSTAMP:20260424T202057
CREATED:20240925T162424Z
LAST-MODIFIED:20250903T200720Z
UID:29810-1728815400-1728824400@paroissescathedraletoulouse.fr
SUMMARY:Une messe tous ensemble à la cathédrale saint Etienne
DESCRIPTION:Une fois par an nous nous retrouvons paroissiens de nos 4 églises (Dalbade\, Daurade\, Saint Aubin et Cathédrale) pour une messe tous ensemble dans l’église des jacobins\, cette année elle aura lieu à la cathédrale saint Etienne pour des raisons logistiques. \nUne occasion de nous retrouver pour louer le Seigneur et apprendre à mieux nous connaitre
URL:https://paroissescathedraletoulouse.fr/event/une-messe-tous-ensemble-aux-jacobins/
LOCATION:Cathédrale Saint-Etienne\, Place Saint Etienne\, Toulouse\, 31000\, France Métropolitaine
CATEGORIES:Evénement,Information
ATTACH;FMTTYPE=image/jpeg:https://paroissescathedraletoulouse.fr/wp-content/uploads/2024/09/messe-ensemble-1310.jpeg
END:VEVENT
BEGIN:VEVENT
DTSTART;TZID=Europe/Paris:20241013T150000
DTEND;TZID=Europe/Paris:20241013T170000
DTSTAMP:20260424T202057
CREATED:20240925T143021Z
LAST-MODIFIED:20241011T165418Z
UID:29797-1728831600-1728838800@paroissescathedraletoulouse.fr
SUMMARY:Dimanche de la Daurade
DESCRIPTION:Marie dans le mystère du Salut à partir des tableaux du chœur de la Basilique ND La Daurade.\nPar Jean Michel Garrot\, Professeur au Lycée Saliège\nConférence précédée d’un concert par Masaki Shizawa\, Œuvres de Bach et Franck
URL:https://paroissescathedraletoulouse.fr/event/dimanche-de-la-daurade-9/
LOCATION:Basilique Notre-Dame La Daurade\, place de la Daurade\, Toulouse\, 31000\, France
CATEGORIES:Evénement
ATTACH;FMTTYPE=image/png:https://paroissescathedraletoulouse.fr/wp-content/uploads/2024/09/2024-IG-Visuel-Dimanches-de-La-Daurade.png
END:VEVENT
BEGIN:VEVENT
DTSTART;TZID=Europe/Paris:20241016T203000
DTEND;TZID=Europe/Paris:20241016T220000
DTSTAMP:20260424T202057
CREATED:20240924T145620Z
LAST-MODIFIED:20240924T201003Z
UID:29775-1729110600-1729116000@paroissescathedraletoulouse.fr
SUMMARY:La vraie histoire du minotaure - conférence
DESCRIPTION:On ne compte plus les chansons\, romans\, nouvelles\, poèmes\, articles et spectacles convoquant la créature mi-homme mi-taureau\, fils de Pasiphaé\, frère d’Ariane\, monstre du labyrinthe\, bourreau des Grecs innocents. \nAprès avoir remémoré en détail le mythe du minotaure et avoir corrigé quelques-unes des erreurs d’interprétation dont il fait trop souvent l’objet\, l’écrivain et universitaire Guillaume Sire expliquera pourquoi et comment cette histoire nous parle de technique\, de désir\, d’amour\, de pouvoir et d’innocence. Plus précisément\, le mythe du minotaure nous met en garde contre ce que les artefacts techniques ont de monstrueux quand ils sont mis au service des plus puissants. \nA l’heure où certains accusent les technologies de détruire la Terre et où d’autres espèrent que les scientifiques la sauveront\, il s’agira de considérer ce qu’un tel mythe a à nous dire du monde contemporain et à nous suggérer quant à son avenir. \nIl s’agira également d’interroger les différences entre le monde tragique\, celui de Minos et de Thésée\, et le monde judéochrétien\, celui d’Abraham et de Jésus. \nLe Christ n’est-il pas la « Porte Étroite »\, seule issue possible du Labyrinthe ?
URL:https://paroissescathedraletoulouse.fr/event/la-vraie-histoire-du-minotaure-conference-publique/
LOCATION:Cathédrale saint Etienne\, place saint Etienne \, Toulouse\, 31000
CATEGORIES:Evénement
ATTACH;FMTTYPE=image/jpeg:https://paroissescathedraletoulouse.fr/wp-content/uploads/2024/09/camel-cazacu-jG6HQT0XfNI-unsplash-1-scaled.jpg
END:VEVENT
BEGIN:VEVENT
DTSTART;TZID=Europe/Paris:20241017T200000
DTEND;TZID=Europe/Paris:20241017T213000
DTSTAMP:20260424T202057
CREATED:20240710T143808Z
LAST-MODIFIED:20240925T143653Z
UID:20342-1729195200-1729200600@paroissescathedraletoulouse.fr
SUMMARY:Veillée Esprit Saint
DESCRIPTION:Venez invoquer l’Esprit Saint !
URL:https://paroissescathedraletoulouse.fr/event/veillee-esprit-saint-3/
LOCATION:Notre-Dame de la Dalbade\, 30\, rue de la Dalbade\, Toulouse\, 31000\, France
CATEGORIES:Evénement
ATTACH;FMTTYPE=image/png:https://paroissescathedraletoulouse.fr/wp-content/uploads/2024/07/2024-IG-Veillee-a-lEsprit-Saint.png
END:VEVENT
BEGIN:VEVENT
DTSTART;TZID=Europe/Paris:20241018T180000
DTEND;TZID=Europe/Paris:20241021T170000
DTSTAMP:20260424T202057
CREATED:20240515T164545Z
LAST-MODIFIED:20240918T165824Z
UID:20220-1729274400-1729530000@paroissescathedraletoulouse.fr
SUMMARY:Pélé des mères
DESCRIPTION:« Que mon oui soit oui » Mathieu 5\, 37\nAvec la Vierge Marie\, venez marcher et prier à la suite de Jésus pour faire la volonté du Père.\nTrois jours pour lâcher prise à l’école de Jésus : une méthode que vous ne trouverez ni sur Instagram ni dans ELLE !\nOù ? Les Corbières\nQuand ? du vendredi 18 octobre (17h) au lundi 21 octobre (18h – apéro partagé avec les familles à la cathédrale au retour)\nPour qui ? Pour les femmes\, les épouses\, les mères de familles ou toutes celles qui vous souhaitent le devenir\nCondition : hébergement en dur et marche avec sac à dos\nParticipation : 125€\nOuverture des inscriptions le jeudi 19 septembre en cliquant sur ce lien\nContact : peledesepouses@gmail.com
URL:https://paroissescathedraletoulouse.fr/event/pele-des-meres/
CATEGORIES:Evénement
ATTACH;FMTTYPE=image/jpeg:https://paroissescathedraletoulouse.fr/wp-content/uploads/2023/07/rando.jpg
END:VEVENT
BEGIN:VEVENT
DTSTART;TZID=Europe/Paris:20241020T110000
DTEND;TZID=Europe/Paris:20241020T120000
DTSTAMP:20260424T202057
CREATED:20241011T163817Z
LAST-MODIFIED:20241011T163817Z
UID:29946-1729422000-1729425600@paroissescathedraletoulouse.fr
SUMMARY:Messe des jeunes pros
DESCRIPTION:
URL:https://paroissescathedraletoulouse.fr/event/messe-des-jeunes-pros/
LOCATION:Notre-Dame de la Dalbade\, 30\, rue de la Dalbade\, Toulouse\, 31000\, France
CATEGORIES:Evénement
ATTACH;FMTTYPE=image/jpeg:https://paroissescathedraletoulouse.fr/wp-content/uploads/2024/10/eucharistie-scaled.jpg
END:VEVENT
END:VCALENDAR