BEGIN:VCALENDAR
VERSION:2.0
PRODID:-//Paroisses Cathédrale Toulouse - ECPv6.15.20//NONSGML v1.0//EN
CALSCALE:GREGORIAN
METHOD:PUBLISH
X-ORIGINAL-URL:https://paroissescathedraletoulouse.fr
X-WR-CALDESC:Évènements pour Paroisses Cathédrale Toulouse
REFRESH-INTERVAL;VALUE=DURATION:PT1H
X-Robots-Tag:noindex
X-PUBLISHED-TTL:PT1H
BEGIN:VTIMEZONE
TZID:Europe/Paris
BEGIN:DAYLIGHT
TZOFFSETFROM:+0100
TZOFFSETTO:+0200
TZNAME:CEST
DTSTART:20250330T010000
END:DAYLIGHT
BEGIN:STANDARD
TZOFFSETFROM:+0200
TZOFFSETTO:+0100
TZNAME:CET
DTSTART:20251026T010000
END:STANDARD
BEGIN:DAYLIGHT
TZOFFSETFROM:+0100
TZOFFSETTO:+0200
TZNAME:CEST
DTSTART:20260329T010000
END:DAYLIGHT
BEGIN:STANDARD
TZOFFSETFROM:+0200
TZOFFSETTO:+0100
TZNAME:CET
DTSTART:20261025T010000
END:STANDARD
BEGIN:DAYLIGHT
TZOFFSETFROM:+0100
TZOFFSETTO:+0200
TZNAME:CEST
DTSTART:20270328T010000
END:DAYLIGHT
BEGIN:STANDARD
TZOFFSETFROM:+0200
TZOFFSETTO:+0100
TZNAME:CET
DTSTART:20271031T010000
END:STANDARD
END:VTIMEZONE
BEGIN:VEVENT
DTSTART;TZID=Europe/Paris:20260508T000000
DTEND;TZID=Europe/Paris:20260510T000000
DTSTAMP:20260423T235816
CREATED:20260201T133859Z
LAST-MODIFIED:20260325T212736Z
UID:31588-1778198400-1778371200@paroissescathedraletoulouse.fr
SUMMARY:Retraite à l Esprit Saint
DESCRIPTION:Venez vivre en famille cette magnifique retraite à L’esprit Saint toutes les infos ICI \nJE M’INSCRIS
URL:https://paroissescathedraletoulouse.fr/event/retraite-a-l-esprit-saint/
LOCATION:Notre Dame de Garaison\, 65
CATEGORIES:Mission,Prier
ATTACH;FMTTYPE=image/jpeg:https://paroissescathedraletoulouse.fr/wp-content/uploads/2026/02/WhatsApp-Image-2026-02-09-at-22.18.55.jpeg
END:VEVENT
END:VCALENDAR