BEGIN:VCALENDAR
VERSION:2.0
PRODID:-//Paroisses Cathédrale Toulouse - ECPv6.15.20//NONSGML v1.0//EN
CALSCALE:GREGORIAN
METHOD:PUBLISH
X-ORIGINAL-URL:https://paroissescathedraletoulouse.fr
X-WR-CALDESC:Évènements pour Paroisses Cathédrale Toulouse
REFRESH-INTERVAL;VALUE=DURATION:PT1H
X-Robots-Tag:noindex
X-PUBLISHED-TTL:PT1H
BEGIN:VTIMEZONE
TZID:Europe/Paris
BEGIN:DAYLIGHT
TZOFFSETFROM:+0100
TZOFFSETTO:+0200
TZNAME:CEST
DTSTART:20250330T010000
END:DAYLIGHT
BEGIN:STANDARD
TZOFFSETFROM:+0200
TZOFFSETTO:+0100
TZNAME:CET
DTSTART:20251026T010000
END:STANDARD
BEGIN:DAYLIGHT
TZOFFSETFROM:+0100
TZOFFSETTO:+0200
TZNAME:CEST
DTSTART:20260329T010000
END:DAYLIGHT
BEGIN:STANDARD
TZOFFSETFROM:+0200
TZOFFSETTO:+0100
TZNAME:CET
DTSTART:20261025T010000
END:STANDARD
BEGIN:DAYLIGHT
TZOFFSETFROM:+0100
TZOFFSETTO:+0200
TZNAME:CEST
DTSTART:20270328T010000
END:DAYLIGHT
BEGIN:STANDARD
TZOFFSETFROM:+0200
TZOFFSETTO:+0100
TZNAME:CET
DTSTART:20271031T010000
END:STANDARD
END:VTIMEZONE
BEGIN:VEVENT
DTSTART;TZID=Europe/Paris:20260329T000000
DTEND;TZID=Europe/Paris:20260405T000000
DTSTAMP:20260423T225943
CREATED:20260301T190005Z
LAST-MODIFIED:20260301T190148Z
UID:31750-1774742400-1775347200@paroissescathedraletoulouse.fr
SUMMARY:Semaine Sainte
DESCRIPTION:
URL:https://paroissescathedraletoulouse.fr/event/semaine-sainte/
ATTACH;FMTTYPE=image/jpeg:https://paroissescathedraletoulouse.fr/wp-content/uploads/2023/03/passion-rameaux-paques-3.jpg
END:VEVENT
BEGIN:VEVENT
DTSTART;VALUE=DATE:20260402
DTEND;VALUE=DATE:20260403
DTSTAMP:20260423T225943
CREATED:20260328T153133Z
LAST-MODIFIED:20260328T153133Z
UID:31817-1775088000-1775174399@paroissescathedraletoulouse.fr
SUMMARY:Jeudi Saint
DESCRIPTION:
URL:https://paroissescathedraletoulouse.fr/event/jeudi-saint-2/
ATTACH;FMTTYPE=image/png:https://paroissescathedraletoulouse.fr/wp-content/uploads/2026/03/2026-IG-jeudi-saint.png
END:VEVENT
BEGIN:VEVENT
DTSTART;TZID=Europe/Paris:20260402T193000
DTEND;TZID=Europe/Paris:20260402T233000
DTSTAMP:20260423T225943
CREATED:20260328T154633Z
LAST-MODIFIED:20260401T101421Z
UID:31829-1775158200-1775172600@paroissescathedraletoulouse.fr
SUMMARY:Nuit d'adoration
DESCRIPTION:   Réservez votre créneau \n  \n\nhttps://framadate.org/zZePeYQk23OhJtGB \n\n  \n  \n  \n 
URL:https://paroissescathedraletoulouse.fr/event/nuit-dadoration/
ATTACH;FMTTYPE=image/png:https://paroissescathedraletoulouse.fr/wp-content/uploads/2026/03/2026-IG-nuit-adoration.png
END:VEVENT
END:VCALENDAR