BEGIN:VCALENDAR
VERSION:2.0
PRODID:-//Paroisses Cathédrale Toulouse - ECPv6.15.20//NONSGML v1.0//EN
CALSCALE:GREGORIAN
METHOD:PUBLISH
X-WR-CALNAME:Paroisses Cathédrale Toulouse
X-ORIGINAL-URL:https://paroissescathedraletoulouse.fr
X-WR-CALDESC:Évènements pour Paroisses Cathédrale Toulouse
REFRESH-INTERVAL;VALUE=DURATION:PT1H
X-Robots-Tag:noindex
X-PUBLISHED-TTL:PT1H
BEGIN:VTIMEZONE
TZID:Europe/Paris
BEGIN:DAYLIGHT
TZOFFSETFROM:+0100
TZOFFSETTO:+0200
TZNAME:CEST
DTSTART:20250330T010000
END:DAYLIGHT
BEGIN:STANDARD
TZOFFSETFROM:+0200
TZOFFSETTO:+0100
TZNAME:CET
DTSTART:20251026T010000
END:STANDARD
BEGIN:DAYLIGHT
TZOFFSETFROM:+0100
TZOFFSETTO:+0200
TZNAME:CEST
DTSTART:20260329T010000
END:DAYLIGHT
BEGIN:STANDARD
TZOFFSETFROM:+0200
TZOFFSETTO:+0100
TZNAME:CET
DTSTART:20261025T010000
END:STANDARD
BEGIN:DAYLIGHT
TZOFFSETFROM:+0100
TZOFFSETTO:+0200
TZNAME:CEST
DTSTART:20270328T010000
END:DAYLIGHT
BEGIN:STANDARD
TZOFFSETFROM:+0200
TZOFFSETTO:+0100
TZNAME:CET
DTSTART:20271031T010000
END:STANDARD
END:VTIMEZONE
BEGIN:VEVENT
DTSTART;TZID=Europe/Paris:20260202T103000
DTEND;TZID=Europe/Paris:20260202T103000
DTSTAMP:20260424T011020
CREATED:20260201T133856Z
LAST-MODIFIED:20260201T134140Z
UID:31582-1770028200-1770028200@paroissescathedraletoulouse.fr
SUMMARY:Messe de consecration de l'Ordre des vierges de Nay Alkouri
DESCRIPTION:Messe de consécration de l’Ordre des vierges de Nay Alkouri avec Mgr de Kérimel à la cathédrale (pas de messe à 8h)
URL:https://paroissescathedraletoulouse.fr/event/messe-de-consecration-dans-l-ordre-des-vierges/
LOCATION:Cathédrale saint Etienne\, Toulouse\, 31000
ATTACH;FMTTYPE=image/jpeg:https://paroissescathedraletoulouse.fr/wp-content/uploads/2015/08/MESSE-150-150.jpg
END:VEVENT
END:VCALENDAR