BEGIN:VCALENDAR
VERSION:2.0
PRODID:-//Paroisses Cathédrale Toulouse - ECPv6.15.20//NONSGML v1.0//EN
CALSCALE:GREGORIAN
METHOD:PUBLISH
X-ORIGINAL-URL:https://paroissescathedraletoulouse.fr
X-WR-CALDESC:Évènements pour Paroisses Cathédrale Toulouse
REFRESH-INTERVAL;VALUE=DURATION:PT1H
X-Robots-Tag:noindex
X-PUBLISHED-TTL:PT1H
BEGIN:VTIMEZONE
TZID:Europe/Paris
BEGIN:DAYLIGHT
TZOFFSETFROM:+0100
TZOFFSETTO:+0200
TZNAME:CEST
DTSTART:20240331T010000
END:DAYLIGHT
BEGIN:STANDARD
TZOFFSETFROM:+0200
TZOFFSETTO:+0100
TZNAME:CET
DTSTART:20241027T010000
END:STANDARD
BEGIN:DAYLIGHT
TZOFFSETFROM:+0100
TZOFFSETTO:+0200
TZNAME:CEST
DTSTART:20250330T010000
END:DAYLIGHT
BEGIN:STANDARD
TZOFFSETFROM:+0200
TZOFFSETTO:+0100
TZNAME:CET
DTSTART:20251026T010000
END:STANDARD
BEGIN:DAYLIGHT
TZOFFSETFROM:+0100
TZOFFSETTO:+0200
TZNAME:CEST
DTSTART:20260329T010000
END:DAYLIGHT
BEGIN:STANDARD
TZOFFSETFROM:+0200
TZOFFSETTO:+0100
TZNAME:CET
DTSTART:20261025T010000
END:STANDARD
END:VTIMEZONE
BEGIN:VEVENT
DTSTART;TZID=Europe/Paris:20251208T190000
DTEND;TZID=Europe/Paris:20251208T220000
DTSTAMP:20260424T041458
CREATED:20251013T122020Z
LAST-MODIFIED:20251125T105048Z
UID:31140-1765220400-1765231200@paroissescathedraletoulouse.fr
SUMMARY:Fête mariale – ND de La Daurade - Immaculée Conception
DESCRIPTION:Le 8 décembre est la fête de Marie .La célébration de l’Immaculée Conception de la Vierge Marie nous rappelle la destinée unique de cette femme juive\, choisie par Dieu. Pour la foi chrétienne\, Marie est indissociable de l’enfant qu’elle a porté\, Jésus\, en qui s’est totalement manifesté le Dieu vivant. Elle est appelée\, depuis le concile d’Éphèse (431)\, « Mère de Dieu ». \nProgramme :\n19h00 : Messe à Saint-Pierre des Chartreux\n20h00 : Procession jusqu’à Notre-Dame de la Daurade\n21h00 : Veillée de prière à la daurade \nhttps://www.etudiants-toulouse.catholique.fr/Evenement/immaculee-conception/ \n 
URL:https://paroissescathedraletoulouse.fr/event/fete-mariale-nd-de-la-daurade/
LOCATION:Basilique Notre-Dame La Daurade\, place de la Daurade\, Toulouse\, 31000\, France
ATTACH;FMTTYPE=image/jpeg:https://paroissescathedraletoulouse.fr/wp-content/uploads/2025/10/ImmaculeeConception.jpg
END:VEVENT
END:VCALENDAR